BEGIN:VCALENDAR
VERSION:2.0
PRODID:-//Staging Federbioservizi - ECPv6.10.1.1//NONSGML v1.0//EN
CALSCALE:GREGORIAN
METHOD:PUBLISH
X-ORIGINAL-URL:https://staging.federbioservizi.it
X-WR-CALDESC:Eventi per Staging Federbioservizi
REFRESH-INTERVAL;VALUE=DURATION:PT1H
X-Robots-Tag:noindex
X-PUBLISHED-TTL:PT1H
BEGIN:VTIMEZONE
TZID:Europe/Rome
BEGIN:DAYLIGHT
TZOFFSETFROM:+0100
TZOFFSETTO:+0200
TZNAME:CEST
DTSTART:20230326T010000
END:DAYLIGHT
BEGIN:STANDARD
TZOFFSETFROM:+0200
TZOFFSETTO:+0100
TZNAME:CET
DTSTART:20231029T010000
END:STANDARD
END:VTIMEZONE
BEGIN:VEVENT
DTSTART;TZID=Europe/Rome:20230227T143000
DTEND;TZID=Europe/Rome:20230227T163000
DTSTAMP:20260422T182812
CREATED:20230223T084638Z
LAST-MODIFIED:20230223T084855Z
UID:5512-1677508200-1677515400@staging.federbioservizi.it
SUMMARY:Conferenza_Contaminazioni accidentali e tecnicamente inevitabili di prodotti fitosanitari in agricoltura biologica
DESCRIPTION:Conferenza: Contaminazioni accidentali e tecnicamente inevitabili di prodotti fitosanitari in agricoltura biologica\nLunedì 27 febbraio 2023 – dalle ore 14.30 alle ore 16.30 c/o SLOW WINE FAIR \nIl convegno si terrà presso l’evento fieristico SLOW WINE FAIR – Bologna Fiere\, Sala Opera. \nFederBio e Unione Italiana Vini organizzano una tavola rotonda sul tema delle contaminazioni accidentali tecnicamente inevitabili di prodotti fitosanitari in agricoltura biologica. \nL’incontro è a fruizione libera e riservato ai professionisti del settore presenti in fiera il 27 febbraio. \nConsulta il programma
URL:https://staging.federbioservizi.it/evento/contaminazioni-accidentali-e-tecnicamente-inevitabili-di-prodotti-fitosanitari-in-agricoltura-biologica/
LOCATION:Bologna Fiere\, Sala Opera\, Viale della Fiera 20\, Bologna\, Italia
ATTACH;FMTTYPE=image/png:https://staging.federbioservizi.it/wp-content/uploads/2023/02/IT_Visual_Slow_Wine_Fair_2023-1024x575-1.png
ORGANIZER;CN="FederBio Servizi":MAILTO:info@federbioservizi.it
END:VEVENT
BEGIN:VEVENT
DTSTART;TZID=Europe/Rome:20230227T143000
DTEND;TZID=Europe/Rome:20230227T163000
DTSTAMP:20260422T182812
CREATED:20230223T084638Z
LAST-MODIFIED:20230223T084638Z
UID:11065-1677508200-1677515400@staging.federbioservizi.it
SUMMARY:Conferenza_Contaminazioni accidentali e tecnicamente inevitabili di prodotti fitosanitari in agricoltura biologica
DESCRIPTION:Conferenza: Contaminazioni accidentali e tecnicamente inevitabili di prodotti fitosanitari in agricoltura biologica\nLunedì 27 febbraio 2023 – dalle ore 14.30 alle ore 16.30 c/o SLOW WINE FAIR \nIl convegno si terrà presso l’evento fieristico SLOW WINE FAIR – Bologna Fiere\, Sala Opera. \nFederBio e Unione Italiana Vini organizzano una tavola rotonda sul tema delle contaminazioni accidentali tecnicamente inevitabili di prodotti fitosanitari in agricoltura biologica. \nL’incontro è a fruizione libera e riservato ai professionisti del settore presenti in fiera il 27 febbraio. \nConsulta il programma
URL:https://staging.federbioservizi.it/evento/contaminazioni-accidentali-e-tecnicamente-inevitabili-di-prodotti-fitosanitari-in-agricoltura-biologica-2/
LOCATION:Bologna Fiere\, Sala Opera\, Viale della Fiera 20\, Bologna\, Italia
ATTACH;FMTTYPE=image/png:https://staging.federbioservizi.it/wp-content/uploads/2023/02/IT_Visual_Slow_Wine_Fair_2023-1024x575-1.png
ORGANIZER;CN="FederBio Servizi":MAILTO:info@federbioservizi.it
END:VEVENT
END:VCALENDAR