BEGIN:VCALENDAR
VERSION:2.0
PRODID:-//Staging Federbioservizi - ECPv6.10.1.1//NONSGML v1.0//EN
CALSCALE:GREGORIAN
METHOD:PUBLISH
X-ORIGINAL-URL:https://staging.federbioservizi.it
X-WR-CALDESC:Eventi per Staging Federbioservizi
REFRESH-INTERVAL;VALUE=DURATION:PT1H
X-Robots-Tag:noindex
X-PUBLISHED-TTL:PT1H
BEGIN:VTIMEZONE
TZID:Europe/Rome
BEGIN:DAYLIGHT
TZOFFSETFROM:+0100
TZOFFSETTO:+0200
TZNAME:CEST
DTSTART:20230326T010000
END:DAYLIGHT
BEGIN:STANDARD
TZOFFSETFROM:+0200
TZOFFSETTO:+0100
TZNAME:CET
DTSTART:20231029T010000
END:STANDARD
END:VTIMEZONE
BEGIN:VEVENT
DTSTART;TZID=Europe/Rome:20230908T143000
DTEND;TZID=Europe/Rome:20230908T170000
DTSTAMP:20260421T014641
CREATED:20230904T141259Z
LAST-MODIFIED:20230904T141259Z
UID:6125-1694183400-1694192400@staging.federbioservizi.it
SUMMARY:RIVOLUZIONE BIO | LA RISTORAZIONE COLLETTIVA BIO TRA MENSE SCOLASTICHE E STRUTTURE OSPEDALIERE
DESCRIPTION:RIVOLUZIONE BIO\nLA RISTORAZIONE COLLETTIVA BIO TRA MENSE SCOLASTICHE E STRUTTURE OSPEDALIERE\n8 Settembre 2023 -14:30 \nOpen Theatre – Pad.30 – BolognaFiere\, Viale della Fiera 20\nModera Nicola STANZANI | Direttore FederBio Servizi \nLA RISTORAZIONE COLLETTIVA BIO\nNicoletta MAFFINI | Presidente ASSOBIO \nUN FUTURO SOSTENIBILE PASSA ANCHE DAL NOSTRO PIATTO – BIO&EQUO NELLA RISTORAZIONE SCOLASTICA\nValeria CALAMARO | Responsabile Marketing e Sostenibilità ALTROMERCATO \nIL BIO NELLE REFEZIONI SCOLASTICHE\nDaniele ARA | Assessore alla Scuola con deleghe all’agricoltura e alle risorse idriche COMUNE DI BOLOGNA \nRISTORAZIONE COLLETTIVA: IL RUOLO DEL BIO NELLE STRUTTURE SANITARIE\nCristina DI MAURO | Responsabile Sportello Mense Bio FEDERBIO SERVIZI \nLa ristorazione ospedaliera. Tavola rotonda\nModera Stefano VEZZANI | Fondazione Sant’Orsola \nINTERVENGONO\nMaria Chiara BASSI | Nutrizionista progetto Chef in ospedale\, Mantova\nCloè DALLA COSTA | Direttore SC Nutrizione Clinica e Disturbi del Comportamento Alimentare Ospedale Michele e Pietro Ferrero\nDiego LAURITANO | Direttore Gestione Servizi & Operation\, IRCCS Azienda Ospedaliera Universitaria di Bologna Policlinico Sant’Orsola \nPROGRAMMA COMPLETO DI RIVOLUZIONE BIO 2023
URL:https://staging.federbioservizi.it/evento/la-ristorazione-collettiva-bio-tra-mense-scolastiche-e-strutture-ospedaliere/
LOCATION:Bologna Fiere
ATTACH;FMTTYPE=image/png:https://staging.federbioservizi.it/wp-content/uploads/2023/09/RIVOLUZIONE-BIO.png
ORGANIZER;CN="FederBio Servizi":MAILTO:info@federbioservizi.it
END:VEVENT
BEGIN:VEVENT
DTSTART;TZID=Europe/Rome:20230908T143000
DTEND;TZID=Europe/Rome:20230908T170000
DTSTAMP:20260421T014641
CREATED:20230904T141259Z
LAST-MODIFIED:20230904T141259Z
UID:11082-1694183400-1694192400@staging.federbioservizi.it
SUMMARY:RIVOLUZIONE BIO | LA RISTORAZIONE COLLETTIVA BIO TRA MENSE SCOLASTICHE E STRUTTURE OSPEDALIERE
DESCRIPTION:RIVOLUZIONE BIO\nLA RISTORAZIONE COLLETTIVA BIO TRA MENSE SCOLASTICHE E STRUTTURE OSPEDALIERE\n8 Settembre 2023 -14:30 \nOpen Theatre – Pad.30 – BolognaFiere\, Viale della Fiera 20\nModera Nicola STANZANI | Direttore FederBio Servizi \nLA RISTORAZIONE COLLETTIVA BIO\nNicoletta MAFFINI | Presidente ASSOBIO \nUN FUTURO SOSTENIBILE PASSA ANCHE DAL NOSTRO PIATTO – BIO&EQUO NELLA RISTORAZIONE SCOLASTICA\nValeria CALAMARO | Responsabile Marketing e Sostenibilità ALTROMERCATO \nIL BIO NELLE REFEZIONI SCOLASTICHE\nDaniele ARA | Assessore alla Scuola con deleghe all’agricoltura e alle risorse idriche COMUNE DI BOLOGNA \nRISTORAZIONE COLLETTIVA: IL RUOLO DEL BIO NELLE STRUTTURE SANITARIE\nCristina DI MAURO | Responsabile Sportello Mense Bio FEDERBIO SERVIZI \nLa ristorazione ospedaliera. Tavola rotonda\nModera Stefano VEZZANI | Fondazione Sant’Orsola \nINTERVENGONO\nMaria Chiara BASSI | Nutrizionista progetto Chef in ospedale\, Mantova\nCloè DALLA COSTA | Direttore SC Nutrizione Clinica e Disturbi del Comportamento Alimentare Ospedale Michele e Pietro Ferrero\nDiego LAURITANO | Direttore Gestione Servizi & Operation\, IRCCS Azienda Ospedaliera Universitaria di Bologna Policlinico Sant’Orsola \nPROGRAMMA COMPLETO DI RIVOLUZIONE BIO 2023
URL:https://staging.federbioservizi.it/evento/la-ristorazione-collettiva-bio-tra-mense-scolastiche-e-strutture-ospedaliere-2/
LOCATION:Bologna Fiere
ATTACH;FMTTYPE=image/png:https://staging.federbioservizi.it/wp-content/uploads/2023/09/RIVOLUZIONE-BIO.png
ORGANIZER;CN="FederBio Servizi":MAILTO:info@federbioservizi.it
END:VEVENT
END:VCALENDAR