BEGIN:VCALENDAR
VERSION:2.0
PRODID:-//Staging Federbioservizi - ECPv6.10.1.1//NONSGML v1.0//EN
CALSCALE:GREGORIAN
METHOD:PUBLISH
X-WR-CALNAME:Staging Federbioservizi
X-ORIGINAL-URL:https://staging.federbioservizi.it
X-WR-CALDESC:Eventi per Staging Federbioservizi
REFRESH-INTERVAL;VALUE=DURATION:PT1H
X-Robots-Tag:noindex
X-PUBLISHED-TTL:PT1H
BEGIN:VTIMEZONE
TZID:Europe/Rome
BEGIN:DAYLIGHT
TZOFFSETFROM:+0100
TZOFFSETTO:+0200
TZNAME:CEST
DTSTART:20220327T010000
END:DAYLIGHT
BEGIN:STANDARD
TZOFFSETFROM:+0200
TZOFFSETTO:+0100
TZNAME:CET
DTSTART:20221030T010000
END:STANDARD
END:VTIMEZONE
BEGIN:VEVENT
DTSTART;TZID=Europe/Rome:20220930T090000
DTEND;TZID=Europe/Rome:20220930T120000
DTSTAMP:20260421T030739
CREATED:20220926T133645Z
LAST-MODIFIED:20220926T133645Z
UID:11062-1664528400-1664539200@staging.federbioservizi.it
SUMMARY:Webinar di aggiornamento sul nuovo Regolamento Prodotti Biologici (UE) n. 2018/848
DESCRIPTION:Webinar di aggiornamento sul nuovo Regolamento Prodotti Biologici (UE) n. 2018/848\n30 settembre 2022\, ore 9.00\nIl webinar\, organizzato da Confindustria Novara Vercelli Valsesia e FederBio Servizi\, si propone di illustrare e analizzare\, le novità introdotte dal Reg. (UE) n. 2018/848 che può rappresentare un’interessante opportunità per gli operatori italiani e\, quindi\, una ulteriore leva per la crescita e il consolidamento del comparto. L’evento intende effettuare un focus dedicato ai canali commerciali del retail\, ristorazione collettiva e mercati internazionali. \n-> Consulta il programma del webinar <-\n-> Iscriviti gratuitamente qui per partecipare! <-
URL:https://staging.federbioservizi.it/evento/webinar-di-aggiornamento-sul-nuovo-regolamento-prodotti-biologici-ue-n-2018-848-2/
LOCATION:Forum online\, Italia
ATTACH;FMTTYPE=image/jpeg:https://staging.federbioservizi.it/wp-content/uploads/2021/04/group-young-people-sitting-conference-together-scaled.jpg
ORGANIZER;CN="FederBio Servizi":MAILTO:info@federbioservizi.it
END:VEVENT
BEGIN:VEVENT
DTSTART;TZID=Europe/Rome:20220930T090000
DTEND;TZID=Europe/Rome:20220930T120000
DTSTAMP:20260421T030739
CREATED:20220926T133645Z
LAST-MODIFIED:20220926T133645Z
UID:5199-1664528400-1664539200@staging.federbioservizi.it
SUMMARY:Webinar di aggiornamento sul nuovo Regolamento Prodotti Biologici (UE) n. 2018/848
DESCRIPTION:Webinar di aggiornamento sul nuovo Regolamento Prodotti Biologici (UE) n. 2018/848\n30 settembre 2022\, ore 9.00\nIl webinar\, organizzato da Confindustria Novara Vercelli Valsesia e FederBio Servizi\, si propone di illustrare e analizzare\, le novità introdotte dal Reg. (UE) n. 2018/848 che può rappresentare un’interessante opportunità per gli operatori italiani e\, quindi\, una ulteriore leva per la crescita e il consolidamento del comparto. L’evento intende effettuare un focus dedicato ai canali commerciali del retail\, ristorazione collettiva e mercati internazionali. \n-> Consulta il programma del webinar <-\n-> Iscriviti gratuitamente qui per partecipare! <-
URL:https://staging.federbioservizi.it/evento/webinar-di-aggiornamento-sul-nuovo-regolamento-prodotti-biologici-ue-n-2018-848/
LOCATION:Forum online\, Italia
ATTACH;FMTTYPE=image/jpeg:https://staging.federbioservizi.it/wp-content/uploads/2021/04/group-young-people-sitting-conference-together-scaled.jpg
ORGANIZER;CN="FederBio Servizi":MAILTO:info@federbioservizi.it
END:VEVENT
END:VCALENDAR