BEGIN:VCALENDAR
VERSION:2.0
PRODID:-//Staging Federbioservizi - ECPv6.10.1.1//NONSGML v1.0//EN
CALSCALE:GREGORIAN
METHOD:PUBLISH
X-ORIGINAL-URL:https://staging.federbioservizi.it
X-WR-CALDESC:Eventi per Staging Federbioservizi
REFRESH-INTERVAL;VALUE=DURATION:PT1H
X-Robots-Tag:noindex
X-PUBLISHED-TTL:PT1H
BEGIN:VTIMEZONE
TZID:Europe/Helsinki
BEGIN:DAYLIGHT
TZOFFSETFROM:+0200
TZOFFSETTO:+0300
TZNAME:EEST
DTSTART:20210328T010000
END:DAYLIGHT
BEGIN:STANDARD
TZOFFSETFROM:+0300
TZOFFSETTO:+0200
TZNAME:EET
DTSTART:20211031T010000
END:STANDARD
END:VTIMEZONE
BEGIN:VEVENT
DTSTART;TZID=Europe/Helsinki:20210330T150000
DTEND;TZID=Europe/Helsinki:20210330T190000
DTSTAMP:20260421T050938
CREATED:20210322T090915Z
LAST-MODIFIED:20210615T133608Z
UID:1386-1617116400-1617130800@staging.federbioservizi.it
SUMMARY:La conversione al Biologico: aspetti normativi e strumenti creditizi
DESCRIPTION:Seminario online – 30 marzo 2021 – ore 15.00-19.00\nLa conversione al biologico:\nAspetti normativi e strumenti creditizi per rendere l’operazione sostenibile\nSeminario gratuito online per titolari e dipendenti di imprese agricole ed enti del territorio\nSi terrà martedì 30 marzo 2021\, dalle ore 15.00 alle ore 19.00 il seminario gratuito\, organizzato dal Biodistretto Valdichiana Aretina e dal Progetto Valtiberina\, “La conversione al biologico: aspetti normativi e strumenti creditizi per rendere l’operazione sostenibile” a cui parteciperà anche il Direttore di FederBio Servizi\, Nicola Stanzani. \nIl programma: \n15.00 – 15.30 – Francesco Romizi\, (Presidente Biodistretto Valdichiana Aretina): Introduzione e presentazione seminario  \n15.30 – 16.00 – Jacopo Orlando\, (Agronomo\, Vice Pres. Nazionale AssoBio e membro direttivo Progetto Valtiberina): “Il Green New Deal e la transizione ecologica”  \n16.00 – 16.30 – Roberto Giangrande\, (Agronomo): “Accesso al credito per le aziende agricole e le misure del PSR”  \n16.30 – 17.00 – Renato Rosadoni\, (Tecnico delle coltivazioni Aboca): “La conversione al biologico: sviluppo delle coltivazioni e lotta alle infestanti”  \n17.00 – 17.30 – Francesco Pallecchi\, (referente Certificazione Biologica Aboca): “Gli aspetti documentali relativi alla certificazione biologica”  \n17.30 – 18.00 – Nicola Stanzani (Direttore FederBio Servizi): “Supportare e sostenere le imprese operanti nel biologico.” \n18.00 – 18.30 – Daniele Gallai (Azienda Agricola Biologica Gallai): Caso pratico  \n18.30 – 19.00 – Dibattito e conclusioni \n\nPer iscriversi inviare una mail a biodistretto.valdichiana@gmail.com\noppure tel/whatsapp al numero 347 9115732 \n\nScarica la locandina dell’evento
URL:https://staging.federbioservizi.it/evento/la-conversione-al-biologico-aspetti-normativi-e-strumenti-creditizi-per-rendere-loperazione-sostenibile/
ATTACH;FMTTYPE=image/jpeg:https://staging.federbioservizi.it/wp-content/uploads/2021/03/Toscana.jpg
END:VEVENT
BEGIN:VEVENT
DTSTART;TZID=Europe/Helsinki:20210330T150000
DTEND;TZID=Europe/Helsinki:20210330T190000
DTSTAMP:20260421T050938
CREATED:20210322T090915Z
LAST-MODIFIED:20210322T090915Z
UID:11015-1617116400-1617130800@staging.federbioservizi.it
SUMMARY:La conversione al Biologico: aspetti normativi e strumenti creditizi
DESCRIPTION:Seminario online – 30 marzo 2021 – ore 15.00-19.00\nLa conversione al biologico:\nAspetti normativi e strumenti creditizi per rendere l’operazione sostenibile\nSeminario gratuito online per titolari e dipendenti di imprese agricole ed enti del territorio\nSi terrà martedì 30 marzo 2021\, dalle ore 15.00 alle ore 19.00 il seminario gratuito\, organizzato dal Biodistretto Valdichiana Aretina e dal Progetto Valtiberina\, “La conversione al biologico: aspetti normativi e strumenti creditizi per rendere l’operazione sostenibile” a cui parteciperà anche il Direttore di FederBio Servizi\, Nicola Stanzani. \nIl programma: \n15.00 – 15.30 – Francesco Romizi\, (Presidente Biodistretto Valdichiana Aretina): Introduzione e presentazione seminario  \n15.30 – 16.00 – Jacopo Orlando\, (Agronomo\, Vice Pres. Nazionale AssoBio e membro direttivo Progetto Valtiberina): “Il Green New Deal e la transizione ecologica”  \n16.00 – 16.30 – Roberto Giangrande\, (Agronomo): “Accesso al credito per le aziende agricole e le misure del PSR”  \n16.30 – 17.00 – Renato Rosadoni\, (Tecnico delle coltivazioni Aboca): “La conversione al biologico: sviluppo delle coltivazioni e lotta alle infestanti”  \n17.00 – 17.30 – Francesco Pallecchi\, (referente Certificazione Biologica Aboca): “Gli aspetti documentali relativi alla certificazione biologica”  \n17.30 – 18.00 – Nicola Stanzani (Direttore FederBio Servizi): “Supportare e sostenere le imprese operanti nel biologico.” \n18.00 – 18.30 – Daniele Gallai (Azienda Agricola Biologica Gallai): Caso pratico  \n18.30 – 19.00 – Dibattito e conclusioni \n\nPer iscriversi inviare una mail a biodistretto.valdichiana@gmail.com\noppure tel/whatsapp al numero 347 9115732 \n\nScarica la locandina dell’evento
URL:https://staging.federbioservizi.it/evento/la-conversione-al-biologico-aspetti-normativi-e-strumenti-creditizi-per-rendere-loperazione-sostenibile-2/
ATTACH;FMTTYPE=image/jpeg:https://staging.federbioservizi.it/wp-content/uploads/2021/03/Toscana.jpg
END:VEVENT
END:VCALENDAR