BEGIN:VCALENDAR
VERSION:2.0
PRODID:-//Staging Federbioservizi - ECPv6.10.1.1//NONSGML v1.0//EN
CALSCALE:GREGORIAN
METHOD:PUBLISH
X-WR-CALNAME:Staging Federbioservizi
X-ORIGINAL-URL:https://staging.federbioservizi.it
X-WR-CALDESC:Eventi per Staging Federbioservizi
REFRESH-INTERVAL;VALUE=DURATION:PT1H
X-Robots-Tag:noindex
X-PUBLISHED-TTL:PT1H
BEGIN:VTIMEZONE
TZID:Europe/Rome
BEGIN:DAYLIGHT
TZOFFSETFROM:+0100
TZOFFSETTO:+0200
TZNAME:CEST
DTSTART:20180325T010000
END:DAYLIGHT
BEGIN:STANDARD
TZOFFSETFROM:+0200
TZOFFSETTO:+0100
TZNAME:CET
DTSTART:20181028T010000
END:STANDARD
END:VTIMEZONE
BEGIN:VEVENT
DTSTART;TZID=Europe/Rome:20180607T000000
DTEND;TZID=Europe/Rome:20180607T000000
DTSTAMP:20260421T031524
CREATED:20180605T074815Z
LAST-MODIFIED:20210615T135104Z
UID:774-1528329600-1528329600@staging.federbioservizi.it
SUMMARY:DEMO Days 2018 in agricoltura biologica - Gualdo di Voghiera\, 7 giugno 2018
DESCRIPTION:Gualdo di Voghiera (FE) – giovedì 7 giugno 2018\nDemo Days 2018 in agricoltura biologica\nSi terrà  giovedì 7 giugno  2018 presso Borgo Le Aie – Fondazione Navarra a Gualdo di Voghiera (FE) la seconda giornata dedicata alla dimostrazione e all’utilizzo di macchinari agricoli innovativi per realizzare specifiche operazioni. Scopo dell’iniziativa è trasferire su larga scala e in modo efficace l’innovazione\, facendo “toccare con mano” le proposte provenienti dalla ricerca e dai fornitori di mezzi tecnici. \nL’evento è gratuito ed è rivolto in particolar modo ad agricoltori\, tecnici pubblici e privati\, consulenti\, funzionari regionali e nazionali. \nProgramma \nOre 14.30 – Presentazione  degli obiettivi e delle prove della giornata\nOre 15.00 – Test di gestione colture sarchiate:\n– Sarchiatrici a confronto;\n– Pacciamature. \nLocandina dell’evento
URL:https://staging.federbioservizi.it/evento/demo-day-2018-gualdo-di-voghiera/
ATTACH;FMTTYPE=image/jpeg:https://staging.federbioservizi.it/wp-content/uploads/2018/06/Agricoltura-trattore.jpg
END:VEVENT
BEGIN:VEVENT
DTSTART;TZID=Europe/Rome:20180607T000000
DTEND;TZID=Europe/Rome:20180607T000000
DTSTAMP:20260421T031524
CREATED:20180605T074815Z
LAST-MODIFIED:20180605T074815Z
UID:11004-1528329600-1528329600@staging.federbioservizi.it
SUMMARY:DEMO Days 2018 in agricoltura biologica - Gualdo di Voghiera\, 7 giugno 2018
DESCRIPTION:Gualdo di Voghiera (FE) – giovedì 7 giugno 2018\nDemo Days 2018 in agricoltura biologica\nSi terrà  giovedì 7 giugno  2018 presso Borgo Le Aie – Fondazione Navarra a Gualdo di Voghiera (FE) la seconda giornata dedicata alla dimostrazione e all’utilizzo di macchinari agricoli innovativi per realizzare specifiche operazioni. Scopo dell’iniziativa è trasferire su larga scala e in modo efficace l’innovazione\, facendo “toccare con mano” le proposte provenienti dalla ricerca e dai fornitori di mezzi tecnici. \nL’evento è gratuito ed è rivolto in particolar modo ad agricoltori\, tecnici pubblici e privati\, consulenti\, funzionari regionali e nazionali. \nProgramma \nOre 14.30 – Presentazione  degli obiettivi e delle prove della giornata\nOre 15.00 – Test di gestione colture sarchiate:\n– Sarchiatrici a confronto;\n– Pacciamature. \nLocandina dell’evento
URL:https://staging.federbioservizi.it/evento/demo-day-2018-gualdo-di-voghiera-2/
ATTACH;FMTTYPE=image/jpeg:https://staging.federbioservizi.it/wp-content/uploads/2018/06/Agricoltura-trattore.jpg
END:VEVENT
END:VCALENDAR