BEGIN:VCALENDAR
VERSION:2.0
PRODID:-//Staging Federbioservizi - ECPv6.10.1.1//NONSGML v1.0//EN
CALSCALE:GREGORIAN
METHOD:PUBLISH
X-WR-CALNAME:Staging Federbioservizi
X-ORIGINAL-URL:https://staging.federbioservizi.it
X-WR-CALDESC:Eventi per Staging Federbioservizi
REFRESH-INTERVAL;VALUE=DURATION:PT1H
X-Robots-Tag:noindex
X-PUBLISHED-TTL:PT1H
BEGIN:VTIMEZONE
TZID:Europe/Rome
BEGIN:DAYLIGHT
TZOFFSETFROM:+0100
TZOFFSETTO:+0200
TZNAME:CEST
DTSTART:20210328T010000
END:DAYLIGHT
BEGIN:STANDARD
TZOFFSETFROM:+0200
TZOFFSETTO:+0100
TZNAME:CET
DTSTART:20211031T010000
END:STANDARD
BEGIN:DAYLIGHT
TZOFFSETFROM:+0100
TZOFFSETTO:+0200
TZNAME:CEST
DTSTART:20220327T010000
END:DAYLIGHT
BEGIN:STANDARD
TZOFFSETFROM:+0200
TZOFFSETTO:+0100
TZNAME:CET
DTSTART:20221030T010000
END:STANDARD
END:VTIMEZONE
BEGIN:VEVENT
DTSTART;TZID=Europe/Rome:20220323T140000
DTEND;TZID=Europe/Rome:20220427T193000
DTSTAMP:20260421T032646
CREATED:20220112T114431Z
LAST-MODIFIED:20220112T114431Z
UID:4434-1648044000-1651087800@staging.federbioservizi.it
SUMMARY:Avvio corsi specialistici per agricoltori\, tecnici e consulenti
DESCRIPTION:Avvio corsi specialistici per agricoltori\, tecnici e consulenti\nCorsi rivolti ai professionisti del biologico dedicati a miscele erbacee\, grani antichi e mezzi tecnici\nIl 23 marzo 2022 partiranno le nuove lezioni dei corsi specialistici in programma per agricoltori\, tecnici e consulenti.  \n\n\nCorso specialistico MISCELE ERBACEE INTERCALARI MULTISERVIZIO \n\n\n\n\n\nMercoledì 23 marzo 2022 / 14.00-17.00 – 3 ore\nVenerdì 25 marzo 2022 / 14.00-17.00 – 3 ore\nMercoledì 30 marzo 2022 / 14.00-17.00 – 3 ore\n\nClicca qui per il programma dettagliato del corso \n\n\n\n\n\n\n\n\n\n\n\n\n\n\n\nCorso specialistico I GRANI ANTICHI IN AGRICOLTURA BIOLOGICA \n\n\n\n\n\nGiovedì 14 aprile 2022 / 17.30-19.30 – 2 ore\nMercoledì 20 aprile 2022 /17.30-19.30 – 2 ore\nVenerdì 22 aprile 2022 /17.30-19.30 – 2 ore\nMercoledì 27 aprile 2022 / 17.30-19.30 – 2 ore\n\nClicca qui per il programma dettagliato del corso \n\n\n\n\n\n\n\n\n\n\n\n\n\n\n\n\n\n\n\n\nCorso specialistico I MEZZI TECNICI DELL’AGRICOLTURA BIOLOGICA \n\n\n\n\n\nMercoledì 6 aprile 2022 / 16.00-18.00 – 2 ore\nVenerdì 8 aprile 2022 / 15.00-18.00 – 3 ore\nMercoledì 13 aprile 2022 / 15.00-18.00 – 3 ore\n\nClicca qui per il programma dettagliato del corso \n\n\n\n\n\n\n\n\n\n\n\n\nLe lezioni si terranno in modalità online live\, tramite la piattaforma Cisco Webex. \nISCRIZIONI APERTE FINO AL 3 MARZO 2022 AL SEGUENTE LINK: https://docs.google.com/forms/d/e/1FAIpQLSfE21FZ6rSYfaj_3gbQFQ3xx-etU9ly8yE-fWQyj2ulVKe8_w/viewform
URL:https://staging.federbioservizi.it/evento/avvio-corsi-specialistici-per-agricoltori-tecnici-e-consulenti-2/
ATTACH;FMTTYPE=image/jpeg:https://staging.federbioservizi.it/wp-content/uploads/2021/09/Coccinella-su-foglia.jpg
ORGANIZER;CN="FederBio Servizi":MAILTO:info@federbioservizi.it
END:VEVENT
BEGIN:VEVENT
DTSTART;TZID=Europe/Rome:20220323T140000
DTEND;TZID=Europe/Rome:20220427T193000
DTSTAMP:20260421T032646
CREATED:20220112T114431Z
LAST-MODIFIED:20220112T114431Z
UID:11034-1648044000-1651087800@staging.federbioservizi.it
SUMMARY:Avvio corsi specialistici per agricoltori\, tecnici e consulenti
DESCRIPTION:Avvio corsi specialistici per agricoltori\, tecnici e consulenti\nCorsi rivolti ai professionisti del biologico dedicati a miscele erbacee\, grani antichi e mezzi tecnici\nIl 23 marzo 2022 partiranno le nuove lezioni dei corsi specialistici in programma per agricoltori\, tecnici e consulenti.  \n\n\nCorso specialistico MISCELE ERBACEE INTERCALARI MULTISERVIZIO \n\n\n\n\n\nMercoledì 23 marzo 2022 / 14.00-17.00 – 3 ore\nVenerdì 25 marzo 2022 / 14.00-17.00 – 3 ore\nMercoledì 30 marzo 2022 / 14.00-17.00 – 3 ore\n\nClicca qui per il programma dettagliato del corso \n\n\n\n\n\n\n\n\n\n\n\n\n\n\n\nCorso specialistico I GRANI ANTICHI IN AGRICOLTURA BIOLOGICA \n\n\n\n\n\nGiovedì 14 aprile 2022 / 17.30-19.30 – 2 ore\nMercoledì 20 aprile 2022 /17.30-19.30 – 2 ore\nVenerdì 22 aprile 2022 /17.30-19.30 – 2 ore\nMercoledì 27 aprile 2022 / 17.30-19.30 – 2 ore\n\nClicca qui per il programma dettagliato del corso \n\n\n\n\n\n\n\n\n\n\n\n\n\n\n\n\n\n\n\n\nCorso specialistico I MEZZI TECNICI DELL’AGRICOLTURA BIOLOGICA \n\n\n\n\n\nMercoledì 6 aprile 2022 / 16.00-18.00 – 2 ore\nVenerdì 8 aprile 2022 / 15.00-18.00 – 3 ore\nMercoledì 13 aprile 2022 / 15.00-18.00 – 3 ore\n\nClicca qui per il programma dettagliato del corso \n\n\n\n\n\n\n\n\n\n\n\n\nLe lezioni si terranno in modalità online live\, tramite la piattaforma Cisco Webex. \nISCRIZIONI APERTE FINO AL 3 MARZO 2022 AL SEGUENTE LINK: https://docs.google.com/forms/d/e/1FAIpQLSfE21FZ6rSYfaj_3gbQFQ3xx-etU9ly8yE-fWQyj2ulVKe8_w/viewform
URL:https://staging.federbioservizi.it/evento/avvio-corsi-specialistici-per-agricoltori-tecnici-e-consulenti-2-2/
ATTACH;FMTTYPE=image/jpeg:https://staging.federbioservizi.it/wp-content/uploads/2021/09/Coccinella-su-foglia.jpg
ORGANIZER;CN="FederBio Servizi":MAILTO:info@federbioservizi.it
END:VEVENT
BEGIN:VEVENT
DTSTART;TZID=Europe/Rome:20211123T150000
DTEND;TZID=Europe/Rome:20211123T180000
DTSTAMP:20260421T032646
CREATED:20211028T100634Z
LAST-MODIFIED:20211028T100634Z
UID:4236-1637679600-1637690400@staging.federbioservizi.it
SUMMARY:Avvio corsi specialistici per agricoltori\, tecnici e consulenti
DESCRIPTION:Avvio corsi specialistici per agricoltori\, tecnici e consulenti\nCorsi rivolti ai professionisti del biologico dedicati a miscele erbacee\, grani antichi e mezzi tecnici\nIl 23 novembre 2021 partiranno le lezioni del primo corso specialistico in programma per agricoltori\, tecnici e consulenti.  \n\n\nCorso specialistico MISCELE ERBACEE INTERCALARI MULTISERVIZIO \n\n\n\n\n\nMartedì 23 novembre 2021 / 15.00-18.00 – 3 ore\nGiovedì 25 novembre 2021 / 15.00-18.00 – 3 ore\nMartedì 30 novembre 2021 / 15.00-18.00 – 3 ore\n\n\n\n\n\n\nClicca qui per il programma dettagliato del corso \n\n\n\n\n\n\n\n\n\n\n\nCorso specialistico I GRANI ANTICHI IN AGRICOLTURA BIOLOGICA \n\n\n\n\n\nGiovedì 2 dicembre 2021 / 17.30-19.30 – 2 ore\nLunedì 6 dicembre 2021 /17.30-19.30 – 2 ore\nMartedì 7 dicembre 2021 /17.30-19.30 – 2 ore\nLunedì 13 dicembre 2021 / 17.30-19.30 – 2 ore\n\n\n\n\n\n\nClicca qui per il programma dettagliato del corso\n \n\n\n\n\n\n\n\n\n\n\n\n\n\n\n\n\nCorso specialistico I MEZZI TECNICI DELL’AGRICOLTURA BIOLOGICA \n\n\n\n\n\nLunedì 15 novembre 2021 / 16.00-18.00 – 2 ore\nMartedì 16 novembre 2021 / 15.00-18.00 – 3 ore\nGiovedì 18 novembre 2021 / 15.00-18.00 – 3 ore\n\n\n\n\n\n\nClicca qui per il programma dettagliato del corso\n \n\n\n\n\n\n\n\n\nLe lezioni saranno tutte online\, tramite la piattaforma Cisco Webex.
URL:https://staging.federbioservizi.it/evento/avvio-corsi-specialistici-per-agricoltori-tecnici-e-consulenti/
ATTACH;FMTTYPE=image/jpeg:https://staging.federbioservizi.it/wp-content/uploads/2017/06/FBS3-FormazioneIMG_0756-1126.jpg
ORGANIZER;CN="FederBio Servizi":MAILTO:info@federbioservizi.it
END:VEVENT
BEGIN:VEVENT
DTSTART;TZID=Europe/Rome:20211123T150000
DTEND;TZID=Europe/Rome:20211123T180000
DTSTAMP:20260421T032646
CREATED:20211028T100634Z
LAST-MODIFIED:20211028T100634Z
UID:11031-1637679600-1637690400@staging.federbioservizi.it
SUMMARY:Avvio corsi specialistici per agricoltori\, tecnici e consulenti
DESCRIPTION:Avvio corsi specialistici per agricoltori\, tecnici e consulenti\nCorsi rivolti ai professionisti del biologico dedicati a miscele erbacee\, grani antichi e mezzi tecnici\nIl 23 novembre 2021 partiranno le lezioni del primo corso specialistico in programma per agricoltori\, tecnici e consulenti.  \n\n\nCorso specialistico MISCELE ERBACEE INTERCALARI MULTISERVIZIO \n\n\n\n\n\nMartedì 23 novembre 2021 / 15.00-18.00 – 3 ore\nGiovedì 25 novembre 2021 / 15.00-18.00 – 3 ore\nMartedì 30 novembre 2021 / 15.00-18.00 – 3 ore\n\n\n\n\n\n\nClicca qui per il programma dettagliato del corso \n\n\n\n\n\n\n\n\n\n\n\nCorso specialistico I GRANI ANTICHI IN AGRICOLTURA BIOLOGICA \n\n\n\n\n\nGiovedì 2 dicembre 2021 / 17.30-19.30 – 2 ore\nLunedì 6 dicembre 2021 /17.30-19.30 – 2 ore\nMartedì 7 dicembre 2021 /17.30-19.30 – 2 ore\nLunedì 13 dicembre 2021 / 17.30-19.30 – 2 ore\n\n\n\n\n\n\nClicca qui per il programma dettagliato del corso\n \n\n\n\n\n\n\n\n\n\n\n\n\n\n\n\n\nCorso specialistico I MEZZI TECNICI DELL’AGRICOLTURA BIOLOGICA \n\n\n\n\n\nLunedì 15 novembre 2021 / 16.00-18.00 – 2 ore\nMartedì 16 novembre 2021 / 15.00-18.00 – 3 ore\nGiovedì 18 novembre 2021 / 15.00-18.00 – 3 ore\n\n\n\n\n\n\nClicca qui per il programma dettagliato del corso\n \n\n\n\n\n\n\n\n\nLe lezioni saranno tutte online\, tramite la piattaforma Cisco Webex.
URL:https://staging.federbioservizi.it/evento/avvio-corsi-specialistici-per-agricoltori-tecnici-e-consulenti-3/
ATTACH;FMTTYPE=image/jpeg:https://staging.federbioservizi.it/wp-content/uploads/2017/06/FBS3-FormazioneIMG_0756-1126.jpg
ORGANIZER;CN="FederBio Servizi":MAILTO:info@federbioservizi.it
END:VEVENT
END:VCALENDAR