BEGIN:VCALENDAR
VERSION:2.0
PRODID:-//Staging Federbioservizi - ECPv6.10.1.1//NONSGML v1.0//EN
CALSCALE:GREGORIAN
METHOD:PUBLISH
X-WR-CALNAME:Staging Federbioservizi
X-ORIGINAL-URL:https://staging.federbioservizi.it
X-WR-CALDESC:Eventi per Staging Federbioservizi
REFRESH-INTERVAL;VALUE=DURATION:PT1H
X-Robots-Tag:noindex
X-PUBLISHED-TTL:PT1H
BEGIN:VTIMEZONE
TZID:Europe/Rome
BEGIN:DAYLIGHT
TZOFFSETFROM:+0100
TZOFFSETTO:+0200
TZNAME:CEST
DTSTART:20220327T010000
END:DAYLIGHT
BEGIN:STANDARD
TZOFFSETFROM:+0200
TZOFFSETTO:+0100
TZNAME:CET
DTSTART:20221030T010000
END:STANDARD
END:VTIMEZONE
BEGIN:VEVENT
DTSTART;TZID=Europe/Rome:20220323T140000
DTEND;TZID=Europe/Rome:20220427T193000
DTSTAMP:20260421T030209
CREATED:20220112T120359Z
LAST-MODIFIED:20220112T120359Z
UID:4441-1648044000-1651087800@staging.federbioservizi.it
SUMMARY:Avvio Executive Training Program “Il Retail Marketing dei prodotti biologici”
DESCRIPTION:Avvio Executive Training Program “Il Retail Marketing dei prodotti biologici”\n\n\n\n\nOttobre/Novembre 2021\n\n\n\n\n\n\n\n\n\n\nIl Retail Marketing dei prodotti biologici \n\n\n\n\n\n\nL’Executive Training Program è composto da 1 Workshop on site e 3 Training Course on line. \n\n\n\n\n\n\nPROGRAMMA\n\nWorkshop – on site: venerdì 4 marzo 2022\, 10.00 – 17.00 – FederBio Piazza dei Martiri 1 a Bologna\n1^ Training Course – on line “IL COMPARTO BIOLOGICO: SCENARIO ED EVOLUZIONE”: lunedì 14 marzo 2022\, 09.00 – 13.00\n2^ Training Course – on line “IL CATEGORY MANAGEMENT “: lunedì 21 marzo 2022\, 09.00 – 13.00\n3^ Training Course – on line “LO SVILUPPO DELLE PRIVATE LABEL “: lunedì 28 marzo 2022\, 09.00 – 13.00\n\n\n\n\n\n\n\n\n\n\n\n\n\n\n\n\n\nPer iscrizioni scrivere a info@federbioservizi.it 
URL:https://staging.federbioservizi.it/evento/avvio-executive-training-program-il-retail-marketing-dei-prodotti-biologici/
ATTACH;FMTTYPE=image/jpeg:https://staging.federbioservizi.it/wp-content/uploads/2021/09/Coccinella-su-foglia.jpg
ORGANIZER;CN="FederBio Servizi":MAILTO:info@federbioservizi.it
END:VEVENT
BEGIN:VEVENT
DTSTART;TZID=Europe/Rome:20220323T140000
DTEND;TZID=Europe/Rome:20220427T193000
DTSTAMP:20260421T030209
CREATED:20220112T120359Z
LAST-MODIFIED:20220112T120359Z
UID:11036-1648044000-1651087800@staging.federbioservizi.it
SUMMARY:Avvio Executive Training Program “Il Retail Marketing dei prodotti biologici”
DESCRIPTION:Avvio Executive Training Program “Il Retail Marketing dei prodotti biologici”\n\n\n\n\nOttobre/Novembre 2021\n\n\n\n\n\n\n\n\n\n\nIl Retail Marketing dei prodotti biologici \n\n\n\n\n\n\nL’Executive Training Program è composto da 1 Workshop on site e 3 Training Course on line. \n\n\n\n\n\n\nPROGRAMMA\n\nWorkshop – on site: venerdì 4 marzo 2022\, 10.00 – 17.00 – FederBio Piazza dei Martiri 1 a Bologna\n1^ Training Course – on line “IL COMPARTO BIOLOGICO: SCENARIO ED EVOLUZIONE”: lunedì 14 marzo 2022\, 09.00 – 13.00\n2^ Training Course – on line “IL CATEGORY MANAGEMENT “: lunedì 21 marzo 2022\, 09.00 – 13.00\n3^ Training Course – on line “LO SVILUPPO DELLE PRIVATE LABEL “: lunedì 28 marzo 2022\, 09.00 – 13.00\n\n\n\n\n\n\n\n\n\n\n\n\n\n\n\n\n\nPer iscrizioni scrivere a info@federbioservizi.it 
URL:https://staging.federbioservizi.it/evento/avvio-executive-training-program-il-retail-marketing-dei-prodotti-biologici-2/
ATTACH;FMTTYPE=image/jpeg:https://staging.federbioservizi.it/wp-content/uploads/2021/09/Coccinella-su-foglia.jpg
ORGANIZER;CN="FederBio Servizi":MAILTO:info@federbioservizi.it
END:VEVENT
END:VCALENDAR