BEGIN:VCALENDAR
VERSION:2.0
PRODID:-//Staging Federbioservizi - ECPv6.10.1.1//NONSGML v1.0//EN
CALSCALE:GREGORIAN
METHOD:PUBLISH
X-WR-CALNAME:Staging Federbioservizi
X-ORIGINAL-URL:https://staging.federbioservizi.it
X-WR-CALDESC:Eventi per Staging Federbioservizi
REFRESH-INTERVAL;VALUE=DURATION:PT1H
X-Robots-Tag:noindex
X-PUBLISHED-TTL:PT1H
BEGIN:VTIMEZONE
TZID:Europe/Rome
BEGIN:DAYLIGHT
TZOFFSETFROM:+0100
TZOFFSETTO:+0200
TZNAME:CEST
DTSTART:20210328T010000
END:DAYLIGHT
BEGIN:STANDARD
TZOFFSETFROM:+0200
TZOFFSETTO:+0100
TZNAME:CET
DTSTART:20211031T010000
END:STANDARD
BEGIN:DAYLIGHT
TZOFFSETFROM:+0100
TZOFFSETTO:+0200
TZNAME:CEST
DTSTART:20220327T010000
END:DAYLIGHT
BEGIN:STANDARD
TZOFFSETFROM:+0200
TZOFFSETTO:+0100
TZNAME:CET
DTSTART:20221030T010000
END:STANDARD
BEGIN:DAYLIGHT
TZOFFSETFROM:+0100
TZOFFSETTO:+0200
TZNAME:CEST
DTSTART:20230326T010000
END:DAYLIGHT
BEGIN:STANDARD
TZOFFSETFROM:+0200
TZOFFSETTO:+0100
TZNAME:CET
DTSTART:20231029T010000
END:STANDARD
END:VTIMEZONE
BEGIN:VEVENT
DTSTART;TZID=Europe/Rome:20230317T094500
DTEND;TZID=Europe/Rome:20230317T123000
DTSTAMP:20260421T002529
CREATED:20230309T111039Z
LAST-MODIFIED:20230309T111039Z
UID:11069-1679046300-1679056200@staging.federbioservizi.it
SUMMARY:Convegno_Il valore delle bioplastiche per un’agricoltura circolare
DESCRIPTION:Il valore delle bioplastiche per un’agricoltura circolare\n\n\n\nProspettive di applicazione e casi di successo\nRoma\, 17 marzo 2023\, ore 9\,45\nSede Regioni Emilia Romagna e Umbria Via Barberini\, 11 \nL’agricoltura rappresenta uno dei campi di innovazione per l’applicazione delle bioplastiche. I potenziali vantaggi per il settore sono molteplici\, sia in termini ambientali che economici. Assobioplastiche\, in collaborazione con Umbria Spring – Cluster Umbro Chimica Verde\, organizza un incontro per illustrare il contributo che queste nuove soluzioni possono offrire per attivare percorsi di bioeconomia circolare in agricoltura. \nPosti limitati. Per partecipare: press@assobioplastiche.org \n\n\n\n-> Consulta il programma <-
URL:https://staging.federbioservizi.it/evento/il-valore-delle-bioplastiche-per-unagricoltura-circolare-2/
LOCATION:Sede Regione Emilia Romagna e Umbria\, Via Barberini\, 11\, Roma\, Italia
ATTACH;FMTTYPE=image/jpeg:https://staging.federbioservizi.it/wp-content/uploads/2022/07/Pomodoro-pacciamato-da-industria-bio-2-scaled.jpeg
ORGANIZER;CN="FederBio Servizi":MAILTO:info@federbioservizi.it
END:VEVENT
BEGIN:VEVENT
DTSTART;TZID=Europe/Rome:20230317T094500
DTEND;TZID=Europe/Rome:20230317T123000
DTSTAMP:20260421T002529
CREATED:20230309T111039Z
LAST-MODIFIED:20230309T111039Z
UID:5609-1679046300-1679056200@staging.federbioservizi.it
SUMMARY:Convegno_Il valore delle bioplastiche per un’agricoltura circolare
DESCRIPTION:Il valore delle bioplastiche per un’agricoltura circolare\n\n\n\nProspettive di applicazione e casi di successo\nRoma\, 17 marzo 2023\, ore 9\,45\nSede Regioni Emilia Romagna e Umbria Via Barberini\, 11 \nL’agricoltura rappresenta uno dei campi di innovazione per l’applicazione delle bioplastiche. I potenziali vantaggi per il settore sono molteplici\, sia in termini ambientali che economici. Assobioplastiche\, in collaborazione con Umbria Spring – Cluster Umbro Chimica Verde\, organizza un incontro per illustrare il contributo che queste nuove soluzioni possono offrire per attivare percorsi di bioeconomia circolare in agricoltura. \nPosti limitati. Per partecipare: press@assobioplastiche.org \n\n\n\n-> Consulta il programma <-
URL:https://staging.federbioservizi.it/evento/il-valore-delle-bioplastiche-per-unagricoltura-circolare/
LOCATION:Sede Regione Emilia Romagna e Umbria\, Via Barberini\, 11\, Roma\, Italia
ATTACH;FMTTYPE=image/jpeg:https://staging.federbioservizi.it/wp-content/uploads/2022/07/Pomodoro-pacciamato-da-industria-bio-2-scaled.jpeg
ORGANIZER;CN="FederBio Servizi":MAILTO:info@federbioservizi.it
END:VEVENT
BEGIN:VEVENT
DTSTART;TZID=Europe/Rome:20220726T090000
DTEND;TZID=Europe/Rome:20220726T130000
DTSTAMP:20260421T002529
CREATED:20220713T155237Z
LAST-MODIFIED:20220713T155237Z
UID:11052-1658826000-1658840400@staging.federbioservizi.it
SUMMARY:I mezzi tecnici innovativi nella coltivazione del pomodoro da industria biologico
DESCRIPTION:FIERA IN CAMPO E NON SOLO!\nMartedì 26 luglio 2022 dalle ore 9:00 alle ore 13:00presso Azienda Agraria Sperimentale Stuard – Parma\nLa fiera in campo mezzi tecnici innovativi per il pomodoro da industria in agricoltura biologica\, organizzata da FederBio Servizi e l’Azienda Agraria Sperimentale Stuard nell’ambito del progetto BioDemoFarm intende proporre un’occasione di confronto e di scambio di conoscenze sulle innovazioni con dimostrazioni di campo per chi realizza produzioni con metodo biologico. \nDurante l’evento sarà organizzata una Tavola Rotonda promossa da Assobioplastiche e FederBio Servizi con oggetto L’USO DELLE “PACCIAMATURE BIODEGRADABILI IN SUOLO” NELLA COLTIVAZIONE BIOLOGICA DEL POMODORO DA INDUSTRIA. \nParteciperanno alla giornata in campo anche tre aziende (I-Farming\, IBF-Agronica e Zuffellato) partner del progetto CREDAS\, che sarà presentato durante l’evento. \nCONSULTA LA LOCANDINA DELL’EVENTO \nCLICCA QUI PER REGISTRARTI GRATUITAMENTE
URL:https://staging.federbioservizi.it/evento/i-mezzi-tecnici-innovativi-nella-coltivazione-del-pomodoro-da-industria-biologico-2/
LOCATION:Azienda Agraria Sperimentale Stuard\, Str. Madonna dell'Aiuto\, 7/a\, Parma\, (PR)\, 43126\, Italia
ATTACH;FMTTYPE=image/jpeg:https://staging.federbioservizi.it/wp-content/uploads/2022/07/Pomodoro-pacciamato-da-industria-bio-2-scaled.jpeg
ORGANIZER;CN="FederBio Servizi":MAILTO:info@federbioservizi.it
END:VEVENT
BEGIN:VEVENT
DTSTART;TZID=Europe/Rome:20220726T090000
DTEND;TZID=Europe/Rome:20220726T130000
DTSTAMP:20260421T002529
CREATED:20220713T155237Z
LAST-MODIFIED:20220722T141326Z
UID:4899-1658826000-1658840400@staging.federbioservizi.it
SUMMARY:I mezzi tecnici innovativi nella coltivazione del pomodoro da industria biologico
DESCRIPTION:FIERA IN CAMPO E NON SOLO!\nMartedì 26 luglio 2022 dalle ore 9:00 alle ore 13:00presso Azienda Agraria Sperimentale Stuard – Parma\nLa fiera in campo mezzi tecnici innovativi per il pomodoro da industria in agricoltura biologica\, organizzata da FederBio Servizi e l’Azienda Agraria Sperimentale Stuard nell’ambito del progetto BioDemoFarm intende proporre un’occasione di confronto e di scambio di conoscenze sulle innovazioni con dimostrazioni di campo per chi realizza produzioni con metodo biologico. \nDurante l’evento sarà organizzata una Tavola Rotonda promossa da Assobioplastiche e FederBio Servizi con oggetto L’USO DELLE “PACCIAMATURE BIODEGRADABILI IN SUOLO” NELLA COLTIVAZIONE BIOLOGICA DEL POMODORO DA INDUSTRIA. \nParteciperanno alla giornata in campo anche tre aziende (I-Farming\, IBF-Agronica e Zuffellato) partner del progetto CREDAS\, che sarà presentato durante l’evento. \nCONSULTA LA LOCANDINA DELL’EVENTO \nCLICCA QUI PER REGISTRARTI GRATUITAMENTE
URL:https://staging.federbioservizi.it/evento/i-mezzi-tecnici-innovativi-nella-coltivazione-del-pomodoro-da-industria-biologico/
LOCATION:Azienda Agraria Sperimentale Stuard\, Str. Madonna dell'Aiuto\, 7/a\, Parma\, (PR)\, 43126\, Italia
ATTACH;FMTTYPE=image/jpeg:https://staging.federbioservizi.it/wp-content/uploads/2022/07/Pomodoro-pacciamato-da-industria-bio-2-scaled.jpeg
ORGANIZER;CN="FederBio Servizi":MAILTO:info@federbioservizi.it
END:VEVENT
BEGIN:VEVENT
DTSTART;TZID=Europe/Rome:20220628T100000
DTEND;TZID=Europe/Rome:20220628T170000
DTSTAMP:20260421T002529
CREATED:20220614T064528Z
LAST-MODIFIED:20220614T064528Z
UID:11047-1656410400-1656435600@staging.federbioservizi.it
SUMMARY:Smart and Sustainable Agrifood Technology Brokerage Event
DESCRIPTION:Fiera di Pordenone\, 28 giugno 2022\nSmart and Sustainable Agrifood Technology Brokerage Event\nL’Associazione Clust-ER Agroalimentare (Emilia-Romagna) è partner insieme al PARCO AGROALIMENTARE FVG – AGRI-FOOD & BIOECONOMY CLUSTER AGENCY s.c.a r.l. (Friuli Venezia Giulia) del progetto CREDAS “Cross-Regional Ecosystem for Digital Agrifood Service”\, finanziato da fondi dell’Unione Europea nell’ambito della Open call SERVICE del progetto Horizon 2020 SmartAgriHubs (Programma Horizon 2020). \nL’iniziativa\, che si realizza tra gennaio e settembre 2022\, è finalizzata al miglioramento ed alla sperimentazione di servizi a supporto della transizione digitale e verde delle PMI del settore agroalimentare. \nNell’ambito dell’attività progettuale di animazione e trasferimento conoscenze alle imprese\, si organizza l’evento Smart and Sustainable Agrifood Technology brokerage event nella giornata di martedì 28 giugno 2022\, presso la Fiera di Pordenone. \nSi prevede un ricco programma di attività\, che comprenderà: \n\nincontri B2B tra aziende del settore agrifood ed esperti in ambito ICT e agritech\nun pitching event di presentazione di soluzioni innovative aperto a tutte le aziende iscritte\nun corso di formazione sull’agricoltura smart e sostenibile aperto a tutte le aziende iscritte\n\nVi invitiamo a partecipare all’evento registrandovi al seguente link ENTRO IL 22/06/2022: https://forms.gle/yKd2YbaH8ASzGwup7 \n-> Scarica il programma dell’evento <-
URL:https://staging.federbioservizi.it/evento/smart-and-sustainable-agrifood-technology-brokerage-event-2/
LOCATION:Fiera di Pordenone\, Viale Treviso\,1\, Pordenone\, (PN)\, 33170
ATTACH;FMTTYPE=image/jpeg:https://staging.federbioservizi.it/wp-content/uploads/2022/06/Smart-Agrifood.jpg
END:VEVENT
BEGIN:VEVENT
DTSTART;TZID=Europe/Rome:20220628T100000
DTEND;TZID=Europe/Rome:20220628T170000
DTSTAMP:20260421T002529
CREATED:20220614T064528Z
LAST-MODIFIED:20220614T064734Z
UID:4771-1656410400-1656435600@staging.federbioservizi.it
SUMMARY:Smart and Sustainable Agrifood Technology Brokerage Event
DESCRIPTION:Fiera di Pordenone\, 28 giugno 2022\nSmart and Sustainable Agrifood Technology Brokerage Event\nL’Associazione Clust-ER Agroalimentare (Emilia-Romagna) è partner insieme al PARCO AGROALIMENTARE FVG – AGRI-FOOD & BIOECONOMY CLUSTER AGENCY s.c.a r.l. (Friuli Venezia Giulia) del progetto CREDAS “Cross-Regional Ecosystem for Digital Agrifood Service”\, finanziato da fondi dell’Unione Europea nell’ambito della Open call SERVICE del progetto Horizon 2020 SmartAgriHubs (Programma Horizon 2020). \nL’iniziativa\, che si realizza tra gennaio e settembre 2022\, è finalizzata al miglioramento ed alla sperimentazione di servizi a supporto della transizione digitale e verde delle PMI del settore agroalimentare. \nNell’ambito dell’attività progettuale di animazione e trasferimento conoscenze alle imprese\, si organizza l’evento Smart and Sustainable Agrifood Technology brokerage event nella giornata di martedì 28 giugno 2022\, presso la Fiera di Pordenone. \nSi prevede un ricco programma di attività\, che comprenderà: \n\nincontri B2B tra aziende del settore agrifood ed esperti in ambito ICT e agritech\nun pitching event di presentazione di soluzioni innovative aperto a tutte le aziende iscritte\nun corso di formazione sull’agricoltura smart e sostenibile aperto a tutte le aziende iscritte\n\nVi invitiamo a partecipare all’evento registrandovi al seguente link ENTRO IL 22/06/2022: https://forms.gle/yKd2YbaH8ASzGwup7 \n-> Scarica il programma dell’evento <-
URL:https://staging.federbioservizi.it/evento/smart-and-sustainable-agrifood-technology-brokerage-event/
LOCATION:Fiera di Pordenone\, Viale Treviso\,1\, Pordenone\, (PN)\, 33170
ATTACH;FMTTYPE=image/jpeg:https://staging.federbioservizi.it/wp-content/uploads/2022/06/Smart-Agrifood.jpg
END:VEVENT
BEGIN:VEVENT
DTSTART;TZID=Europe/Rome:20211217T090000
DTEND;TZID=Europe/Rome:20211217T124000
DTSTAMP:20260421T002529
CREATED:20211210T154143Z
LAST-MODIFIED:20211210T154143Z
UID:11032-1639731600-1639744800@staging.federbioservizi.it
SUMMARY:Evento Value Chain SOSFARM & SPES
DESCRIPTION:Online\, 17 dicembre 2021 \nValue Chain SOSFARM & SPES\nBig Data e Tracciabilità a supporto delle filiere agricole; buone pratiche per il riutilizzo di sottoprodotti agricoli; IoT e Smart Farming per una maggiore sostenibilità delle produzioni\nTra i relatori anche il Direttore di FederBio Servizi\, Nicola Stanzani\, che presenterà l’intervento “La piattaforma digitale per l’autocontrollo e la gestione delle filiere di prodotto biologico certificato FIP4”.  \nL’evento si terrà online venerdì 17 dicembre 2021 dalle ore 9.00 alle ore 12.40. Scarica il programma qui. \n \nE’ possibile iscriversi scrivendo a marco.foschini@agrifood.clust-er.it
URL:https://staging.federbioservizi.it/evento/evento-value-chain-sosfarm-spes-2/
ATTACH;FMTTYPE=image/jpeg:https://staging.federbioservizi.it/wp-content/uploads/2021/04/logo-fip4-payoff-1.jpg
ORGANIZER;CN="FederBio Servizi":MAILTO:info@federbioservizi.it
END:VEVENT
BEGIN:VEVENT
DTSTART;TZID=Europe/Rome:20211217T090000
DTEND;TZID=Europe/Rome:20211217T124000
DTSTAMP:20260421T002529
CREATED:20211210T154143Z
LAST-MODIFIED:20211216T154407Z
UID:4381-1639731600-1639744800@staging.federbioservizi.it
SUMMARY:Evento Value Chain SOSFARM & SPES
DESCRIPTION:Online\, 17 dicembre 2021 \nValue Chain SOSFARM & SPES\nBig Data e Tracciabilità a supporto delle filiere agricole; buone pratiche per il riutilizzo di sottoprodotti agricoli; IoT e Smart Farming per una maggiore sostenibilità delle produzioni\nTra i relatori anche il Direttore di FederBio Servizi\, Nicola Stanzani\, che presenterà l’intervento “La piattaforma digitale per l’autocontrollo e la gestione delle filiere di prodotto biologico certificato FIP4”.  \nL’evento si terrà online venerdì 17 dicembre 2021 dalle ore 9.00 alle ore 12.40. Scarica il programma qui. \n \nE’ possibile iscriversi scrivendo a marco.foschini@agrifood.clust-er.it
URL:https://staging.federbioservizi.it/evento/evento-value-chain-sosfarm-spes/
ATTACH;FMTTYPE=image/jpeg:https://staging.federbioservizi.it/wp-content/uploads/2021/04/logo-fip4-payoff-1.jpg
ORGANIZER;CN="FederBio Servizi":MAILTO:info@federbioservizi.it
END:VEVENT
BEGIN:VEVENT
DTSTART;TZID=Europe/Rome:20210715T090000
DTEND;TZID=Europe/Rome:20210715T150000
DTSTAMP:20260421T002529
CREATED:20210623T152319Z
LAST-MODIFIED:20210623T152319Z
UID:11023-1626339600-1626361200@staging.federbioservizi.it
SUMMARY:Le innovazioni per il pomodoro da industria in agricoltura biologica - Registrati all'evento!
DESCRIPTION:Fiera in campo BioDemoFarm\, 15 luglio 2021\nLe innovazioni per il pomodoro da industria in agricoltura biologica\nGiovedì 15 luglio 2021 dalle ore 9:00 alle ore 13:00\npresso Azienda Agraria Sperimentale Stuard – Parma\nLa fiera in campo  è parte del progetto BioDemoFarm per il trasferimento di conoscenze verso il mondo produttivo delle migliori innovazioni per l’agricoltura biologica ed è organizzata da FederBio Servizi e Azienda Agraria Sperimentale Stuard con il patrocinio di OI Pomodoro da Industria Nord Italia\, Bologna Fiere – Sana Tech\, Clust-ER Agroalimentare e AssoBio. \nL’evento è un’occasione di confronto e di scambio di conoscenze sulle innovazioni per il pomodoro da industria con dimostrazioni in campo per chi realizza produzioni con metodo biologico. \nProgramma dimostrazioni della giornata: \n\n9:00 Ingresso\n9:30 Saluti iniziali\n10:00 Tour guidato alle prove in campo\n12:00 Tavola rotonda\, promossa da Assobioplastiche Servizi\, sull’uso delle bioplastiche nella coltivazione del pomodoro da industria biologico\n13:00 Saluti finali\n\nSCARICA LA LOCANDINA DELL’EVENTO \nL’evento è gratuito con obbligo di registrazione online per rispettare le norme emanate per contenere l’emergenza epidemiologica da COVID-19. \nREGISTRATI QUI \nPer ulteriori informazioni puoi scrivere una e-mail a innovazionebio@federbioservizi.it o chiamare al numero 051 – 4210272 chiedendo di Cristina di Mauro o Nicola Stanzani. \nNB: La giornata sarà svolta in ottemperanza delle norme emanate per contenere l’emergenza epidemiologica da COVID-19.
URL:https://staging.federbioservizi.it/evento/le-innovazioni-per-il-pomodoro-da-industria-in-agricoltura-biologica-come-partecipare-2/
LOCATION:Azienda Agraria Sperimentale Stuard\, Str. Madonna dell'Aiuto\, 7/a\, Parma\, (PR)\, 43126\, Italia
ATTACH;FMTTYPE=image/png:https://staging.federbioservizi.it/wp-content/uploads/2021/03/Logo-BioDemoFarm-1.png
ORGANIZER;CN="FederBio Servizi":MAILTO:info@federbioservizi.it
END:VEVENT
BEGIN:VEVENT
DTSTART;TZID=Europe/Rome:20210715T090000
DTEND;TZID=Europe/Rome:20210715T150000
DTSTAMP:20260421T002529
CREATED:20210623T152319Z
LAST-MODIFIED:20210712T091836Z
UID:3751-1626339600-1626361200@staging.federbioservizi.it
SUMMARY:Le innovazioni per il pomodoro da industria in agricoltura biologica - Registrati all'evento!
DESCRIPTION:Fiera in campo BioDemoFarm\, 15 luglio 2021\nLe innovazioni per il pomodoro da industria in agricoltura biologica\nGiovedì 15 luglio 2021 dalle ore 9:00 alle ore 13:00\npresso Azienda Agraria Sperimentale Stuard – Parma\nLa fiera in campo  è parte del progetto BioDemoFarm per il trasferimento di conoscenze verso il mondo produttivo delle migliori innovazioni per l’agricoltura biologica ed è organizzata da FederBio Servizi e Azienda Agraria Sperimentale Stuard con il patrocinio di OI Pomodoro da Industria Nord Italia\, Bologna Fiere – Sana Tech\, Clust-ER Agroalimentare e AssoBio. \nL’evento è un’occasione di confronto e di scambio di conoscenze sulle innovazioni per il pomodoro da industria con dimostrazioni in campo per chi realizza produzioni con metodo biologico. \nProgramma dimostrazioni della giornata: \n\n9:00 Ingresso\n9:30 Saluti iniziali\n10:00 Tour guidato alle prove in campo\n12:00 Tavola rotonda\, promossa da Assobioplastiche Servizi\, sull’uso delle bioplastiche nella coltivazione del pomodoro da industria biologico\n13:00 Saluti finali\n\nSCARICA LA LOCANDINA DELL’EVENTO \nL’evento è gratuito con obbligo di registrazione online per rispettare le norme emanate per contenere l’emergenza epidemiologica da COVID-19. \nREGISTRATI QUI \nPer ulteriori informazioni puoi scrivere una e-mail a innovazionebio@federbioservizi.it o chiamare al numero 051 – 4210272 chiedendo di Cristina di Mauro o Nicola Stanzani. \nNB: La giornata sarà svolta in ottemperanza delle norme emanate per contenere l’emergenza epidemiologica da COVID-19.
URL:https://staging.federbioservizi.it/evento/le-innovazioni-per-il-pomodoro-da-industria-in-agricoltura-biologica-come-partecipare/
LOCATION:Azienda Agraria Sperimentale Stuard\, Str. Madonna dell'Aiuto\, 7/a\, Parma\, (PR)\, 43126\, Italia
ATTACH;FMTTYPE=image/png:https://staging.federbioservizi.it/wp-content/uploads/2021/03/Logo-BioDemoFarm-1.png
ORGANIZER;CN="FederBio Servizi":MAILTO:info@federbioservizi.it
END:VEVENT
BEGIN:VEVENT
DTSTART;TZID=Europe/Rome:20210521T090000
DTEND;TZID=Europe/Rome:20210521T170000
DTSTAMP:20260421T002529
CREATED:20210309T153615Z
LAST-MODIFIED:20210615T140059Z
UID:1363-1621587600-1621616400@staging.federbioservizi.it
SUMMARY:Gestione delle infestanti in agricoltura biologica
DESCRIPTION:Giornata dimostrativa – 21 maggio 2021\nGESTIONE DELLE INFESTANTI IN AGRICOLTURA BIOLOGICA\nVenerdì 21 maggio 2021 dalle ore 9:00 alle ore 17:00*\npresso Azienda Agraria Sperimentale Stuard – Parma\nBioDemoFarm è il progetto di FederBio Servizi per il trasferimento di conoscenze verso il mondo produttivo delle migliori innovazioni per l’agricoltura biologica. \nBioDemoFarm intende rispondere all’esigenza crescente degli operatori delle filiere biologiche di individuare le migliori innovazioni tecniche\, tecnologiche ed organizzative disponibili sul mercato e di potervi accedere in modo mirato e personalizzato. \nL’approccio BioDemoFarm consiste nel mettere in atto prove e giornate dimostrative significative in contesti produttivi competitivi\, condotte – già dalla fase di ideazione – in stretta collaborazione con attori della produzione di riferimento e testimoni privilegiati\, dando ampia diffusione dei risultati ottenuti nei contesti di produzione e di assistenza tecnica target. \nCon la giornata dimostrativa sulla gestione delle infestanti nella produzione di pomodoro da industria e colture orticole\, FederBio Servizi e l’Azienda Agraria Sperimentale Stuard intendono proporre un’occasione di confronto e di scambio di conoscenze su uno dei temi più rilevanti per chi realizza produzioni con metodo biologico e non solo.  \nProgramma dimostrazioni della giornata: \n\nSarchiatura interfilare con di diverse sarchiatrici e altri macchinari per il controllo delle infestanti\nMateriali pacciamanti\nFalsa semina e gestione delle infestanti in fase di pre-trapianto e pre-semina\nPirodiserbo\nSovesci e cover crops\n\n\nSCOPRI IL PROGRAMMA COMPLETO \nIl pranzo a buffet sarà offerto a tutti i partecipanti alla giornata \n\n\nSCOPRI COME PARTECIPARE COME SPONSOR TECNICO \n\n*In caso di annullamento della giornata da parte degli organizzatori\, nulla sarà dovuto da parte degli sponsor. \nNB: La giornata sarà svolta in ottemperanza delle norme emanate per contenere l’emergenza epidemiologica da COVID-19.
URL:https://staging.federbioservizi.it/evento/gestione-delle-infestanti-in-agricoltura-biologica/
LOCATION:Prova webinar online
ATTACH;FMTTYPE=image/png:https://staging.federbioservizi.it/wp-content/uploads/2021/03/Logo-BioDemoFarm-1.png
ORGANIZER;CN="FederBio Servizi":MAILTO:info@federbioservizi.it
END:VEVENT
BEGIN:VEVENT
DTSTART;TZID=Europe/Rome:20210521T090000
DTEND;TZID=Europe/Rome:20210521T170000
DTSTAMP:20260421T002529
CREATED:20210309T153615Z
LAST-MODIFIED:20210309T153615Z
UID:11014-1621587600-1621616400@staging.federbioservizi.it
SUMMARY:Gestione delle infestanti in agricoltura biologica
DESCRIPTION:Giornata dimostrativa – 21 maggio 2021\nGESTIONE DELLE INFESTANTI IN AGRICOLTURA BIOLOGICA\nVenerdì 21 maggio 2021 dalle ore 9:00 alle ore 17:00*\npresso Azienda Agraria Sperimentale Stuard – Parma\nBioDemoFarm è il progetto di FederBio Servizi per il trasferimento di conoscenze verso il mondo produttivo delle migliori innovazioni per l’agricoltura biologica. \nBioDemoFarm intende rispondere all’esigenza crescente degli operatori delle filiere biologiche di individuare le migliori innovazioni tecniche\, tecnologiche ed organizzative disponibili sul mercato e di potervi accedere in modo mirato e personalizzato. \nL’approccio BioDemoFarm consiste nel mettere in atto prove e giornate dimostrative significative in contesti produttivi competitivi\, condotte – già dalla fase di ideazione – in stretta collaborazione con attori della produzione di riferimento e testimoni privilegiati\, dando ampia diffusione dei risultati ottenuti nei contesti di produzione e di assistenza tecnica target. \nCon la giornata dimostrativa sulla gestione delle infestanti nella produzione di pomodoro da industria e colture orticole\, FederBio Servizi e l’Azienda Agraria Sperimentale Stuard intendono proporre un’occasione di confronto e di scambio di conoscenze su uno dei temi più rilevanti per chi realizza produzioni con metodo biologico e non solo.  \nProgramma dimostrazioni della giornata: \n\nSarchiatura interfilare con di diverse sarchiatrici e altri macchinari per il controllo delle infestanti\nMateriali pacciamanti\nFalsa semina e gestione delle infestanti in fase di pre-trapianto e pre-semina\nPirodiserbo\nSovesci e cover crops\n\n\nSCOPRI IL PROGRAMMA COMPLETO \nIl pranzo a buffet sarà offerto a tutti i partecipanti alla giornata \n\n\nSCOPRI COME PARTECIPARE COME SPONSOR TECNICO \n\n*In caso di annullamento della giornata da parte degli organizzatori\, nulla sarà dovuto da parte degli sponsor. \nNB: La giornata sarà svolta in ottemperanza delle norme emanate per contenere l’emergenza epidemiologica da COVID-19.
URL:https://staging.federbioservizi.it/evento/gestione-delle-infestanti-in-agricoltura-biologica-2/
LOCATION:Prova webinar online
ATTACH;FMTTYPE=image/png:https://staging.federbioservizi.it/wp-content/uploads/2021/03/Logo-BioDemoFarm-1.png
ORGANIZER;CN="FederBio Servizi":MAILTO:info@federbioservizi.it
END:VEVENT
END:VCALENDAR