BEGIN:VCALENDAR
VERSION:2.0
PRODID:-//Staging Federbioservizi - ECPv6.10.1.1//NONSGML v1.0//EN
CALSCALE:GREGORIAN
METHOD:PUBLISH
X-WR-CALNAME:Staging Federbioservizi
X-ORIGINAL-URL:https://staging.federbioservizi.it
X-WR-CALDESC:Eventi per Staging Federbioservizi
REFRESH-INTERVAL;VALUE=DURATION:PT1H
X-Robots-Tag:noindex
X-PUBLISHED-TTL:PT1H
BEGIN:VTIMEZONE
TZID:Europe/Rome
BEGIN:DAYLIGHT
TZOFFSETFROM:+0100
TZOFFSETTO:+0200
TZNAME:CEST
DTSTART:20220327T010000
END:DAYLIGHT
BEGIN:STANDARD
TZOFFSETFROM:+0200
TZOFFSETTO:+0100
TZNAME:CET
DTSTART:20221030T010000
END:STANDARD
BEGIN:DAYLIGHT
TZOFFSETFROM:+0100
TZOFFSETTO:+0200
TZNAME:CEST
DTSTART:20230326T010000
END:DAYLIGHT
BEGIN:STANDARD
TZOFFSETFROM:+0200
TZOFFSETTO:+0100
TZNAME:CET
DTSTART:20231029T010000
END:STANDARD
END:VTIMEZONE
BEGIN:VEVENT
DTSTART;TZID=Europe/Rome:20230306T093000
DTEND;TZID=Europe/Rome:20230306T130000
DTSTAMP:20260420T224539
CREATED:20230222T080354Z
LAST-MODIFIED:20230222T080354Z
UID:5491-1678095000-1678107600@staging.federbioservizi.it
SUMMARY:Convegno_Cimice asiatica\, strategie per la difesa sostenibile
DESCRIPTION:Convegno:\nCimice asiatica\, strategie per la difesa sostenibile\nLunedì 6 marzo 2023\, dalle 9.30 alle ore 13.00 a Bologna  \nIl convegno si terrà presso la Sala “20 maggio 2012” in Viale della Fiera 8 a Bologna\, presso i palazzi della Regione Emilia Romagna. \nL’evento sarà l’occasione per presentare i risultati del progetto Biovitamina\, di cui FederBio Servizi è capofila. L’obiettivo del progetto Biovitamina «Metodi di lotta biologica per la difesa diretta rivolti a ridurre il potenziale biotico della Cimice Asiatica» è mettere a punto diversi protocolli di difesa contro la cimice asiatica (Halyomorpha halys) impiegando una gamma di prodotti naturali e idonei all’agricoltura biologica ma che possano trovare applicazioni anche in agricoltura integrata. www.biovitamina.it  \n-> Consulta il programma del webinar <-
URL:https://staging.federbioservizi.it/evento/convegno_cimice-asiatica-strategie-per-la-difesa-sostenibile/
LOCATION:Sala 20 maggio 2012\, Viale della Fiera 8\, Bologna\, Italia
ATTACH;FMTTYPE=image/png:https://staging.federbioservizi.it/wp-content/uploads/2021/07/Logo-Biovitamina.png
ORGANIZER;CN="FederBio Servizi":MAILTO:info@federbioservizi.it
END:VEVENT
BEGIN:VEVENT
DTSTART;TZID=Europe/Rome:20230306T093000
DTEND;TZID=Europe/Rome:20230306T130000
DTSTAMP:20260420T224539
CREATED:20230222T080354Z
LAST-MODIFIED:20230222T080354Z
UID:11064-1678095000-1678107600@staging.federbioservizi.it
SUMMARY:Convegno_Cimice asiatica\, strategie per la difesa sostenibile
DESCRIPTION:Convegno:\nCimice asiatica\, strategie per la difesa sostenibile\nLunedì 6 marzo 2023\, dalle 9.30 alle ore 13.00 a Bologna  \nIl convegno si terrà presso la Sala “20 maggio 2012” in Viale della Fiera 8 a Bologna\, presso i palazzi della Regione Emilia Romagna. \nL’evento sarà l’occasione per presentare i risultati del progetto Biovitamina\, di cui FederBio Servizi è capofila. L’obiettivo del progetto Biovitamina «Metodi di lotta biologica per la difesa diretta rivolti a ridurre il potenziale biotico della Cimice Asiatica» è mettere a punto diversi protocolli di difesa contro la cimice asiatica (Halyomorpha halys) impiegando una gamma di prodotti naturali e idonei all’agricoltura biologica ma che possano trovare applicazioni anche in agricoltura integrata. www.biovitamina.it  \n-> Consulta il programma del webinar <-
URL:https://staging.federbioservizi.it/evento/convegno_cimice-asiatica-strategie-per-la-difesa-sostenibile-2/
LOCATION:Sala 20 maggio 2012\, Viale della Fiera 8\, Bologna\, Italia
ATTACH;FMTTYPE=image/png:https://staging.federbioservizi.it/wp-content/uploads/2021/07/Logo-Biovitamina.png
ORGANIZER;CN="FederBio Servizi":MAILTO:info@federbioservizi.it
END:VEVENT
BEGIN:VEVENT
DTSTART;TZID=Europe/Rome:20220506T100000
DTEND;TZID=Europe/Rome:20220506T130000
DTSTAMP:20260420T224539
CREATED:20220420T144420Z
LAST-MODIFIED:20220502T080034Z
UID:4621-1651831200-1651842000@staging.federbioservizi.it
SUMMARY:L'innovazione nell'ortofrutta: biodiversità\, lotta alla cimice asiatica e risparmio idrico
DESCRIPTION:L’innovazione nell’ortofrutta: biodiversità\, lotta alla cimice asiatica e risparmio idrico\nIl punto sulle attività dei Gruppi Operativi\nMACFRUT\, 6 MAGGIO 2022 – ore 10.00-13.00 presso Sala Mimosa\nSi terrà il 6 maggio a MACFRUT l’evento\, organizzato dalla Regione Emilia-Romagna\, per fare il punto sulle attività dei Gruppi Operativi in tema di innovazione nel settore dell’ortofrutta. \nIl programma del convegno: \nore 10.00 Registrazione partecipanti \nIntroduce e modera Giuseppina Felice\, Regione Emilia-Romagna\nResponsabile Settore competitività delle imprese e sviluppo dell’innovazione \nore 10.15 Biodiversità e decarbonizzazione \n\nMela Rosa Romana dell’Appennino bolognese: organizzazione e valorizzazione di una filiera di\nqualità in biologico – MERR. (Ente capofila Rinnova)\nNuove tecniche di monitoraggio del bilancio del carbonio e dello stato di salute del castagneto da\nlegno e da frutto – Castagni Parlanti. (Ente capofila Open Fields)\nNuove tecniche per migliorare la sostenibilità della filiera noce da frutto in Emilia-Romagna –\nSost.Noce. (Ente capofila New Factor)\n\nore 11.00 Competitività delle filiere agroalimentari \n\nSviluppo di supporti e servizi nel settore post-raccolta frutta – S4Post.Frut. (Ente capofila Rinnova)\n\nore 11.15 Difesa delle produzioni \n\nApproccio sinergico per la difesa sostenibile delle colture frutticole e orticole nei confronti della\ncimice asiatica – Contr.halys. (Ente capofila Università Cattolica del Sacro Cuore)\nStrategie tecnologiche preventive e tecniche di difesa biologica per il contrasto alla cimice\nasiatica – Vindicta. (Ente capofila Azienda Agraria Sperimentale Stuard)\nMetodi di lotta biologica per la difesa diretta rivolti a ridurre il potenziale biotico della cimice\nasiatica – Biovitamina. (Ente capofila FederBio Servizi)\n\nore 12.00 Risparmio idrico \n\nIndagine sui sistemi irrigui a livello territoriale in risposta alla degenerazione degli impianti di pero –\nIrrigate. (Ente capofila Rinnova)\nEstensione del servizio Fert-Irrinet alle principali colture di interesse fertirriguo e sviluppo di una\napplicazione per smartphone\nFertIrrinet App. (Ente capofila Consorzio CER)\nInnovazione tecnologica in irrigazione – AcquaSmart . (Ente capofila Consorzio CER)\n\nore 12.45 Conclusioni \nScarica il programma dell’evento.
URL:https://staging.federbioservizi.it/evento/linnovazione-nellortofrutta-biodiversita-lotta-alla-cimice-asiatica-e-risparmio-idrico/
LOCATION:MACFRUT\, Via Emilia\, 155\, Rimini
ATTACH;FMTTYPE=image/jpeg:https://staging.federbioservizi.it/wp-content/uploads/2021/07/Cimice-asiatica.jpg
ORGANIZER;CN="FederBio Servizi":MAILTO:info@federbioservizi.it
END:VEVENT
BEGIN:VEVENT
DTSTART;TZID=Europe/Rome:20220506T100000
DTEND;TZID=Europe/Rome:20220506T130000
DTSTAMP:20260420T224539
CREATED:20220420T144420Z
LAST-MODIFIED:20220420T144420Z
UID:11040-1651831200-1651842000@staging.federbioservizi.it
SUMMARY:L'innovazione nell'ortofrutta: biodiversità\, lotta alla cimice asiatica e risparmio idrico
DESCRIPTION:L’innovazione nell’ortofrutta: biodiversità\, lotta alla cimice asiatica e risparmio idrico\nIl punto sulle attività dei Gruppi Operativi\nMACFRUT\, 6 MAGGIO 2022 – ore 10.00-13.00 presso Sala Mimosa\nSi terrà il 6 maggio a MACFRUT l’evento\, organizzato dalla Regione Emilia-Romagna\, per fare il punto sulle attività dei Gruppi Operativi in tema di innovazione nel settore dell’ortofrutta. \nIl programma del convegno: \nore 10.00 Registrazione partecipanti \nIntroduce e modera Giuseppina Felice\, Regione Emilia-Romagna\nResponsabile Settore competitività delle imprese e sviluppo dell’innovazione \nore 10.15 Biodiversità e decarbonizzazione \n\nMela Rosa Romana dell’Appennino bolognese: organizzazione e valorizzazione di una filiera di\nqualità in biologico – MERR. (Ente capofila Rinnova)\nNuove tecniche di monitoraggio del bilancio del carbonio e dello stato di salute del castagneto da\nlegno e da frutto – Castagni Parlanti. (Ente capofila Open Fields)\nNuove tecniche per migliorare la sostenibilità della filiera noce da frutto in Emilia-Romagna –\nSost.Noce. (Ente capofila New Factor)\n\nore 11.00 Competitività delle filiere agroalimentari \n\nSviluppo di supporti e servizi nel settore post-raccolta frutta – S4Post.Frut. (Ente capofila Rinnova)\n\nore 11.15 Difesa delle produzioni \n\nApproccio sinergico per la difesa sostenibile delle colture frutticole e orticole nei confronti della\ncimice asiatica – Contr.halys. (Ente capofila Università Cattolica del Sacro Cuore)\nStrategie tecnologiche preventive e tecniche di difesa biologica per il contrasto alla cimice\nasiatica – Vindicta. (Ente capofila Azienda Agraria Sperimentale Stuard)\nMetodi di lotta biologica per la difesa diretta rivolti a ridurre il potenziale biotico della cimice\nasiatica – Biovitamina. (Ente capofila FederBio Servizi)\n\nore 12.00 Risparmio idrico \n\nIndagine sui sistemi irrigui a livello territoriale in risposta alla degenerazione degli impianti di pero –\nIrrigate. (Ente capofila Rinnova)\nEstensione del servizio Fert-Irrinet alle principali colture di interesse fertirriguo e sviluppo di una\napplicazione per smartphone\nFertIrrinet App. (Ente capofila Consorzio CER)\nInnovazione tecnologica in irrigazione – AcquaSmart . (Ente capofila Consorzio CER)\n\nore 12.45 Conclusioni \nScarica il programma dell’evento.
URL:https://staging.federbioservizi.it/evento/linnovazione-nellortofrutta-biodiversita-lotta-alla-cimice-asiatica-e-risparmio-idrico-2/
LOCATION:MACFRUT\, Via Emilia\, 155\, Rimini
ATTACH;FMTTYPE=image/jpeg:https://staging.federbioservizi.it/wp-content/uploads/2021/07/Cimice-asiatica.jpg
ORGANIZER;CN="FederBio Servizi":MAILTO:info@federbioservizi.it
END:VEVENT
END:VCALENDAR