BEGIN:VCALENDAR
VERSION:2.0
PRODID:-//Staging Federbioservizi - ECPv6.10.1.1//NONSGML v1.0//EN
CALSCALE:GREGORIAN
METHOD:PUBLISH
X-ORIGINAL-URL:https://staging.federbioservizi.it
X-WR-CALDESC:Eventi per Staging Federbioservizi
REFRESH-INTERVAL;VALUE=DURATION:PT1H
X-Robots-Tag:noindex
X-PUBLISHED-TTL:PT1H
BEGIN:VTIMEZONE
TZID:Europe/Rome
BEGIN:DAYLIGHT
TZOFFSETFROM:+0100
TZOFFSETTO:+0200
TZNAME:CEST
DTSTART:20240331T010000
END:DAYLIGHT
BEGIN:STANDARD
TZOFFSETFROM:+0200
TZOFFSETTO:+0100
TZNAME:CET
DTSTART:20241027T010000
END:STANDARD
END:VTIMEZONE
BEGIN:VEVENT
DTSTART;TZID=Europe/Rome:20240703T110000
DTEND;TZID=Europe/Rome:20240703T130000
DTSTAMP:20260422T090551
CREATED:20240722T091047Z
LAST-MODIFIED:20240722T091047Z
UID:6587-1720004400-1720011600@staging.federbioservizi.it
SUMMARY:Digitalizza﻿zione e agricoltura biologica: il caso delle colture orticole industriali
DESCRIPTION:Mercoledì 3 luglio dalle ore 11.30 a Parma presso l’Azienda Agraria Sperimentale STUARD si terrà un seminario su: Digitalizzazione e agricoltura biologica: il caso delle colture orticole industriali. \nL’evento è organizzato da FederBio in collaborazione con FederBio Servizi e rientra nel progetto \nPNABio – Piattaforma nazionale di attività e servizi per il biologico italiano in movimento.  \nFederBio con il contributo di FederBio Servizi è da sempre impegnata nel voler favorire la transizione dell’innovazione in agricoltura biologica per promuovere strumenti utili al raggiungimento di elevati standard quali-quantitativi di produzione biologica. L’obiettivo\, di questo incontro\, è approfondire le conoscenze sulle tecnologie digitali per l’agricoltura biologica. L’evento si concluderà con un light lunch offerto a tutti i partecipanti. \n\nSeminario-del-3-luglio-2024 \nVi aspettiamo!
URL:https://staging.federbioservizi.it/evento/digitalizzazione-e-agricoltura-biologica-il-caso-delle-colture-orticole-industriali/
LOCATION:azienda stuard
ATTACH;FMTTYPE=image/jpeg:https://staging.federbioservizi.it/wp-content/uploads/2024/07/header_azienda_stuard_ultima-1.jpg
END:VEVENT
BEGIN:VEVENT
DTSTART;TZID=Europe/Rome:20240703T110000
DTEND;TZID=Europe/Rome:20240703T130000
DTSTAMP:20260422T090551
CREATED:20240722T091047Z
LAST-MODIFIED:20240722T091047Z
UID:11096-1720004400-1720011600@staging.federbioservizi.it
SUMMARY:Digitalizza﻿zione e agricoltura biologica: il caso delle colture orticole industriali
DESCRIPTION:Mercoledì 3 luglio dalle ore 11.30 a Parma presso l’Azienda Agraria Sperimentale STUARD si terrà un seminario su: Digitalizzazione e agricoltura biologica: il caso delle colture orticole industriali. \nL’evento è organizzato da FederBio in collaborazione con FederBio Servizi e rientra nel progetto \nPNABio – Piattaforma nazionale di attività e servizi per il biologico italiano in movimento.  \nFederBio con il contributo di FederBio Servizi è da sempre impegnata nel voler favorire la transizione dell’innovazione in agricoltura biologica per promuovere strumenti utili al raggiungimento di elevati standard quali-quantitativi di produzione biologica. L’obiettivo\, di questo incontro\, è approfondire le conoscenze sulle tecnologie digitali per l’agricoltura biologica. L’evento si concluderà con un light lunch offerto a tutti i partecipanti. \n\nSeminario-del-3-luglio-2024 \nVi aspettiamo!
URL:https://staging.federbioservizi.it/evento/digitalizzazione-e-agricoltura-biologica-il-caso-delle-colture-orticole-industriali-2/
LOCATION:azienda stuard
ATTACH;FMTTYPE=image/jpeg:https://staging.federbioservizi.it/wp-content/uploads/2024/07/header_azienda_stuard_ultima-1.jpg
END:VEVENT
END:VCALENDAR