BEGIN:VCALENDAR
VERSION:2.0
PRODID:-//Staging Federbioservizi - ECPv6.10.1.1//NONSGML v1.0//EN
CALSCALE:GREGORIAN
METHOD:PUBLISH
X-ORIGINAL-URL:https://staging.federbioservizi.it
X-WR-CALDESC:Eventi per Staging Federbioservizi
REFRESH-INTERVAL;VALUE=DURATION:PT1H
X-Robots-Tag:noindex
X-PUBLISHED-TTL:PT1H
BEGIN:VTIMEZONE
TZID:Europe/Rome
BEGIN:DAYLIGHT
TZOFFSETFROM:+0100
TZOFFSETTO:+0200
TZNAME:CEST
DTSTART:20210328T010000
END:DAYLIGHT
BEGIN:STANDARD
TZOFFSETFROM:+0200
TZOFFSETTO:+0100
TZNAME:CET
DTSTART:20211031T010000
END:STANDARD
BEGIN:DAYLIGHT
TZOFFSETFROM:+0100
TZOFFSETTO:+0200
TZNAME:CEST
DTSTART:20220327T010000
END:DAYLIGHT
BEGIN:STANDARD
TZOFFSETFROM:+0200
TZOFFSETTO:+0100
TZNAME:CET
DTSTART:20221030T010000
END:STANDARD
BEGIN:DAYLIGHT
TZOFFSETFROM:+0100
TZOFFSETTO:+0200
TZNAME:CEST
DTSTART:20230326T010000
END:DAYLIGHT
BEGIN:STANDARD
TZOFFSETFROM:+0200
TZOFFSETTO:+0100
TZNAME:CET
DTSTART:20231029T010000
END:STANDARD
END:VTIMEZONE
BEGIN:VEVENT
DTSTART;TZID=Europe/Rome:20230403T090000
DTEND;TZID=Europe/Rome:20230419T120000
DTSTAMP:20260421T020003
CREATED:20230306T144308Z
LAST-MODIFIED:20230306T144308Z
UID:11068-1680512400-1681905600@staging.federbioservizi.it
SUMMARY:Corso di formazione_Come rispettare le nuove regole per la produzione‚ l'etichettatura e i controlli per le imprese agroalimentari biologiche (Reg. UE 2018/848)
DESCRIPTION:Corso:\nCome rispettare le nuove regole per la produzione‚ l’etichettatura e i controlli per le imprese agroalimentari biologiche (Reg. UE 2018/848)\nWebinar\, 3-5-17-19 aprile 2023\n\n\n\nScopo del corso è fornire indicazioni per rispettare tutti gli obblighi imposti dal nuovo Reg. UE 2018/848 che riguardano i prodotti biologici. Le aziende della filiera agroalimentare bio devono adeguarsi agli adempimenti previsti\, dal punto di vista sia produttivo che documentale. Il corso online ha come obiettivo quello di fornire indicazioni per rispettare tutti gli obblighi ed evitare sanzioni. \n\n\n\n\n-> Iscriviti al corso <-
URL:https://staging.federbioservizi.it/evento/corso-di-formazione_come-rispettare-le-nuove-regole-2/
LOCATION:Online\, Italia
ATTACH;FMTTYPE=image/jpeg:https://staging.federbioservizi.it/wp-content/uploads/2019/02/Pane-agroalimentare.jpg
ORGANIZER;CN="FederBio Servizi":MAILTO:info@federbioservizi.it
END:VEVENT
BEGIN:VEVENT
DTSTART;TZID=Europe/Rome:20230403T090000
DTEND;TZID=Europe/Rome:20230419T120000
DTSTAMP:20260421T020003
CREATED:20230306T144308Z
LAST-MODIFIED:20230306T144308Z
UID:5581-1680512400-1681905600@staging.federbioservizi.it
SUMMARY:Corso di formazione_Come rispettare le nuove regole per la produzione‚ l'etichettatura e i controlli per le imprese agroalimentari biologiche (Reg. UE 2018/848)
DESCRIPTION:Corso:\nCome rispettare le nuove regole per la produzione‚ l’etichettatura e i controlli per le imprese agroalimentari biologiche (Reg. UE 2018/848)\nWebinar\, 3-5-17-19 aprile 2023\n\n\n\nScopo del corso è fornire indicazioni per rispettare tutti gli obblighi imposti dal nuovo Reg. UE 2018/848 che riguardano i prodotti biologici. Le aziende della filiera agroalimentare bio devono adeguarsi agli adempimenti previsti\, dal punto di vista sia produttivo che documentale. Il corso online ha come obiettivo quello di fornire indicazioni per rispettare tutti gli obblighi ed evitare sanzioni. \n\n\n\n\n-> Iscriviti al corso <-
URL:https://staging.federbioservizi.it/evento/corso-di-formazione_come-rispettare-le-nuove-regole/
LOCATION:Online\, Italia
ATTACH;FMTTYPE=image/jpeg:https://staging.federbioservizi.it/wp-content/uploads/2019/02/Pane-agroalimentare.jpg
ORGANIZER;CN="FederBio Servizi":MAILTO:info@federbioservizi.it
END:VEVENT
BEGIN:VEVENT
DTSTART;TZID=Europe/Rome:20220923T110000
DTEND;TZID=Europe/Rome:20220923T130000
DTSTAMP:20260421T020003
CREATED:20220919T140316Z
LAST-MODIFIED:20220919T140316Z
UID:11061-1663930800-1663938000@staging.federbioservizi.it
SUMMARY:European Organic Day 2022
DESCRIPTION:European Organic Day 2022\n\n\n\n\n\nBologna\, 23 settembre 2022 ore 11.00\n\n\n\n\n\nIstituita per celebrare il settore e valutare i progressi della transizione agroecologica\, la Giornata europea del biologico rappresenta l’occasione per valutare l’andamento della produzione\, l’evoluzione della domanda dei consumatori e per continuare a sensibilizzare su un modello agricolo che tutela la salute dell’uomo e dell’ambiente\, oltre a contribuire a mitigare i cambiamenti climatici. \nIl Comune di Bologna e le organizzazioni del bio festeggiano la prima Giornata europea dedicata al biologico\, istituita dalla Commissione europea\, presentando nuovi progetti e iniziative per favorire lo sviluppo del settore. Sarà anticipata la Festa del BIO\, che farà tappa a Bologna in ottobre\, e presentati nuovi dati di Nomisma sull’andamento dei consumi bio. \n-> Consulta il programma dell’evento <-
URL:https://staging.federbioservizi.it/evento/european-organic-day-2022-2/
LOCATION:Palazzo d’Accursio\, Bologna\, Piazza Maggiore 6\, Bologna\, (BO)\, Italia
ATTACH;FMTTYPE=image/jpeg:https://staging.federbioservizi.it/wp-content/uploads/2022/09/Festa-del-Bio-2022.jpeg
ORGANIZER;CN="FederBio":MAILTO:info@federbio.it
END:VEVENT
BEGIN:VEVENT
DTSTART;TZID=Europe/Rome:20220923T110000
DTEND;TZID=Europe/Rome:20220923T130000
DTSTAMP:20260421T020003
CREATED:20220919T140316Z
LAST-MODIFIED:20220919T140555Z
UID:5175-1663930800-1663938000@staging.federbioservizi.it
SUMMARY:European Organic Day 2022
DESCRIPTION:European Organic Day 2022\n\n\n\n\n\nBologna\, 23 settembre 2022 ore 11.00\n\n\n\n\n\nIstituita per celebrare il settore e valutare i progressi della transizione agroecologica\, la Giornata europea del biologico rappresenta l’occasione per valutare l’andamento della produzione\, l’evoluzione della domanda dei consumatori e per continuare a sensibilizzare su un modello agricolo che tutela la salute dell’uomo e dell’ambiente\, oltre a contribuire a mitigare i cambiamenti climatici. \nIl Comune di Bologna e le organizzazioni del bio festeggiano la prima Giornata europea dedicata al biologico\, istituita dalla Commissione europea\, presentando nuovi progetti e iniziative per favorire lo sviluppo del settore. Sarà anticipata la Festa del BIO\, che farà tappa a Bologna in ottobre\, e presentati nuovi dati di Nomisma sull’andamento dei consumi bio. \n-> Consulta il programma dell’evento <-
URL:https://staging.federbioservizi.it/evento/european-organic-day-2022/
LOCATION:Palazzo d’Accursio\, Bologna\, Piazza Maggiore 6\, Bologna\, (BO)\, Italia
ATTACH;FMTTYPE=image/jpeg:https://staging.federbioservizi.it/wp-content/uploads/2022/09/Festa-del-Bio-2022.jpeg
ORGANIZER;CN="FederBio":MAILTO:info@federbio.it
END:VEVENT
BEGIN:VEVENT
DTSTART;TZID=Europe/Rome:20220510T150000
DTEND;TZID=Europe/Rome:20220510T173000
DTSTAMP:20260421T020003
CREATED:20220503T093030Z
LAST-MODIFIED:20220503T093030Z
UID:11042-1652194800-1652203800@staging.federbioservizi.it
SUMMARY:E' l'ora dell'agricoltura bio
DESCRIPTION:E’ l’ora dell’agricoltura bio\nDopo 15 anni di impegno delle associazioni\, degli agricoltori e dei cittadini\, la legge sull’agricoltura biologica è finalmente stata approvata. Nello stesso tempo\, all’interno della PAC\, attraverso il Piano Strategico Nazionale\, sono state destinate importanti risorse al settore del biologico.\nSi terrò il 10 maggio presso il Teatro De’ Servi di Roma il convegno organizzato da FederBio per tradurre in strumenti concreti le premesse stabilite nella legge: marchio made in Italy\, Piano d’azione\, formazione\, ricerca\, distretti biologici. Occorre capire come verranno impiegate le nuove risorse economiche per lo sviluppo di un’agricoltura che tutela la terra\, l’acqua e il lavoro.
URL:https://staging.federbioservizi.it/evento/e-lora-dellagricoltura-bio-2/
LOCATION:Teatro De’ Servi\, 𝐕𝐢𝐚 𝐝𝐞𝐥 𝐌𝐨𝐫𝐭𝐚𝐫𝐨\, 𝟐𝟐\, Roma
ATTACH;FMTTYPE=image/jpeg:https://staging.federbioservizi.it/wp-content/uploads/2021/06/FederBio-sfondo.jpg
ORGANIZER;CN="FederBio":MAILTO:info@federbio.it
END:VEVENT
BEGIN:VEVENT
DTSTART;TZID=Europe/Rome:20220510T150000
DTEND;TZID=Europe/Rome:20220510T173000
DTSTAMP:20260421T020003
CREATED:20220503T093030Z
LAST-MODIFIED:20220503T093213Z
UID:4655-1652194800-1652203800@staging.federbioservizi.it
SUMMARY:E' l'ora dell'agricoltura bio
DESCRIPTION:E’ l’ora dell’agricoltura bio\nDopo 15 anni di impegno delle associazioni\, degli agricoltori e dei cittadini\, la legge sull’agricoltura biologica è finalmente stata approvata. Nello stesso tempo\, all’interno della PAC\, attraverso il Piano Strategico Nazionale\, sono state destinate importanti risorse al settore del biologico.\nSi terrò il 10 maggio presso il Teatro De’ Servi di Roma il convegno organizzato da FederBio per tradurre in strumenti concreti le premesse stabilite nella legge: marchio made in Italy\, Piano d’azione\, formazione\, ricerca\, distretti biologici. Occorre capire come verranno impiegate le nuove risorse economiche per lo sviluppo di un’agricoltura che tutela la terra\, l’acqua e il lavoro.
URL:https://staging.federbioservizi.it/evento/e-lora-dellagricoltura-bio/
LOCATION:Teatro De’ Servi\, 𝐕𝐢𝐚 𝐝𝐞𝐥 𝐌𝐨𝐫𝐭𝐚𝐫𝐨\, 𝟐𝟐\, Roma
ATTACH;FMTTYPE=image/jpeg:https://staging.federbioservizi.it/wp-content/uploads/2021/06/FederBio-sfondo.jpg
ORGANIZER;CN="FederBio":MAILTO:info@federbio.it
END:VEVENT
BEGIN:VEVENT
DTSTART;TZID=Europe/Rome:20210715T090000
DTEND;TZID=Europe/Rome:20210715T150000
DTSTAMP:20260421T020003
CREATED:20210623T152319Z
LAST-MODIFIED:20210712T091836Z
UID:3751-1626339600-1626361200@staging.federbioservizi.it
SUMMARY:Le innovazioni per il pomodoro da industria in agricoltura biologica - Registrati all'evento!
DESCRIPTION:Fiera in campo BioDemoFarm\, 15 luglio 2021\nLe innovazioni per il pomodoro da industria in agricoltura biologica\nGiovedì 15 luglio 2021 dalle ore 9:00 alle ore 13:00\npresso Azienda Agraria Sperimentale Stuard – Parma\nLa fiera in campo  è parte del progetto BioDemoFarm per il trasferimento di conoscenze verso il mondo produttivo delle migliori innovazioni per l’agricoltura biologica ed è organizzata da FederBio Servizi e Azienda Agraria Sperimentale Stuard con il patrocinio di OI Pomodoro da Industria Nord Italia\, Bologna Fiere – Sana Tech\, Clust-ER Agroalimentare e AssoBio. \nL’evento è un’occasione di confronto e di scambio di conoscenze sulle innovazioni per il pomodoro da industria con dimostrazioni in campo per chi realizza produzioni con metodo biologico. \nProgramma dimostrazioni della giornata: \n\n9:00 Ingresso\n9:30 Saluti iniziali\n10:00 Tour guidato alle prove in campo\n12:00 Tavola rotonda\, promossa da Assobioplastiche Servizi\, sull’uso delle bioplastiche nella coltivazione del pomodoro da industria biologico\n13:00 Saluti finali\n\nSCARICA LA LOCANDINA DELL’EVENTO \nL’evento è gratuito con obbligo di registrazione online per rispettare le norme emanate per contenere l’emergenza epidemiologica da COVID-19. \nREGISTRATI QUI \nPer ulteriori informazioni puoi scrivere una e-mail a innovazionebio@federbioservizi.it o chiamare al numero 051 – 4210272 chiedendo di Cristina di Mauro o Nicola Stanzani. \nNB: La giornata sarà svolta in ottemperanza delle norme emanate per contenere l’emergenza epidemiologica da COVID-19.
URL:https://staging.federbioservizi.it/evento/le-innovazioni-per-il-pomodoro-da-industria-in-agricoltura-biologica-come-partecipare/
LOCATION:Azienda Agraria Sperimentale Stuard\, Str. Madonna dell'Aiuto\, 7/a\, Parma\, (PR)\, 43126\, Italia
ATTACH;FMTTYPE=image/png:https://staging.federbioservizi.it/wp-content/uploads/2021/03/Logo-BioDemoFarm-1.png
ORGANIZER;CN="FederBio Servizi":MAILTO:info@federbioservizi.it
END:VEVENT
BEGIN:VEVENT
DTSTART;TZID=Europe/Rome:20210715T090000
DTEND;TZID=Europe/Rome:20210715T150000
DTSTAMP:20260421T020003
CREATED:20210623T152319Z
LAST-MODIFIED:20210623T152319Z
UID:11023-1626339600-1626361200@staging.federbioservizi.it
SUMMARY:Le innovazioni per il pomodoro da industria in agricoltura biologica - Registrati all'evento!
DESCRIPTION:Fiera in campo BioDemoFarm\, 15 luglio 2021\nLe innovazioni per il pomodoro da industria in agricoltura biologica\nGiovedì 15 luglio 2021 dalle ore 9:00 alle ore 13:00\npresso Azienda Agraria Sperimentale Stuard – Parma\nLa fiera in campo  è parte del progetto BioDemoFarm per il trasferimento di conoscenze verso il mondo produttivo delle migliori innovazioni per l’agricoltura biologica ed è organizzata da FederBio Servizi e Azienda Agraria Sperimentale Stuard con il patrocinio di OI Pomodoro da Industria Nord Italia\, Bologna Fiere – Sana Tech\, Clust-ER Agroalimentare e AssoBio. \nL’evento è un’occasione di confronto e di scambio di conoscenze sulle innovazioni per il pomodoro da industria con dimostrazioni in campo per chi realizza produzioni con metodo biologico. \nProgramma dimostrazioni della giornata: \n\n9:00 Ingresso\n9:30 Saluti iniziali\n10:00 Tour guidato alle prove in campo\n12:00 Tavola rotonda\, promossa da Assobioplastiche Servizi\, sull’uso delle bioplastiche nella coltivazione del pomodoro da industria biologico\n13:00 Saluti finali\n\nSCARICA LA LOCANDINA DELL’EVENTO \nL’evento è gratuito con obbligo di registrazione online per rispettare le norme emanate per contenere l’emergenza epidemiologica da COVID-19. \nREGISTRATI QUI \nPer ulteriori informazioni puoi scrivere una e-mail a innovazionebio@federbioservizi.it o chiamare al numero 051 – 4210272 chiedendo di Cristina di Mauro o Nicola Stanzani. \nNB: La giornata sarà svolta in ottemperanza delle norme emanate per contenere l’emergenza epidemiologica da COVID-19.
URL:https://staging.federbioservizi.it/evento/le-innovazioni-per-il-pomodoro-da-industria-in-agricoltura-biologica-come-partecipare-2/
LOCATION:Azienda Agraria Sperimentale Stuard\, Str. Madonna dell'Aiuto\, 7/a\, Parma\, (PR)\, 43126\, Italia
ATTACH;FMTTYPE=image/png:https://staging.federbioservizi.it/wp-content/uploads/2021/03/Logo-BioDemoFarm-1.png
ORGANIZER;CN="FederBio Servizi":MAILTO:info@federbioservizi.it
END:VEVENT
BEGIN:VEVENT
DTSTART;VALUE=DATE:20210226
DTEND;VALUE=DATE:20210227
DTSTAMP:20260421T020003
CREATED:20210215T091553Z
LAST-MODIFIED:20210615T131529Z
UID:1325-1614297600-1614383999@staging.federbioservizi.it
SUMMARY:Contaminazioni e infestazioni nelle imprese biologiche: quali mosse per tenerle sotto scacco?
DESCRIPTION:Seminario online – 26 febbraio 2021\nContaminazioni e infestazioni\nnelle imprese biologiche:\nquali mosse per tenerle sotto scacco?\nIl 26 febbraio 2021\, dalle 9.30 alle 11.00\, si svolgerà in modalità online il seminario: “Contaminazioni e infestazioni nelle imprese biologiche: quali mosse per tenerle sotto scacco?” \nIl seminario organizzato da AssoBio e FederBio Servizi vuole essere un’occasione per dialogare sulle dinamiche e sulle conseguenze di queste problematiche e\, grazie al contributo di relatori di lunga esperienza nel settore\, fornire spunti utili per affrontarle in maniera più efficace e con l’ausilio di sistemi innovativi ed ecocompatibili. \n \nPROGRAMMA \nIntroduzione\nRoberto Zanoni – Presidente di AssoBio \nLe controversie generate dalla misinterpretazione della normativa bio sui residui nonammessi e le difficoltà nella gestione: il mancato know how\nBiagio Calcavecchia – FederBio Servizi \nPrincipali cause e modalità di rilevazione delle contaminazioni nei prodotti biologici\nGiuseppe Vassanelli – Vassanelli Lab \nEffetti di una errata valutazione del tema infestanti nell’ambito delle produzioni biologiche\nLuigi Bombardieri – Controllo Ricerca & Sviluppo \nLe moderne tecniche di Pest Control\, efficaci ed ecosostenibili\nGiorgio Polo – Chimical Service \nPresentazione del progetto ProBIO Solutions\nNicola Stanzani – Direttore di FederBio Servizi \nConclusioni e Domande \nE’ possibile scaricare la locandina dell’evento qui. \nLa partecipazione è gratuita. Si chiede iscrizione al seguente link:\nhttps://forms.gle/Avazbv527JVQEi4R8
URL:https://staging.federbioservizi.it/evento/seminario-contaminazione-e-infestazioni-imprese-biologiche/
ATTACH;FMTTYPE=image/jpeg:https://staging.federbioservizi.it/wp-content/uploads/2021/02/wheat-4509_1920.jpg
END:VEVENT
BEGIN:VEVENT
DTSTART;VALUE=DATE:20210226
DTEND;VALUE=DATE:20210227
DTSTAMP:20260421T020003
CREATED:20210215T091553Z
LAST-MODIFIED:20210215T091553Z
UID:11013-1614297600-1614383999@staging.federbioservizi.it
SUMMARY:Contaminazioni e infestazioni nelle imprese biologiche: quali mosse per tenerle sotto scacco?
DESCRIPTION:Seminario online – 26 febbraio 2021\nContaminazioni e infestazioni\nnelle imprese biologiche:\nquali mosse per tenerle sotto scacco?\nIl 26 febbraio 2021\, dalle 9.30 alle 11.00\, si svolgerà in modalità online il seminario: “Contaminazioni e infestazioni nelle imprese biologiche: quali mosse per tenerle sotto scacco?” \nIl seminario organizzato da AssoBio e FederBio Servizi vuole essere un’occasione per dialogare sulle dinamiche e sulle conseguenze di queste problematiche e\, grazie al contributo di relatori di lunga esperienza nel settore\, fornire spunti utili per affrontarle in maniera più efficace e con l’ausilio di sistemi innovativi ed ecocompatibili. \n \nPROGRAMMA \nIntroduzione\nRoberto Zanoni – Presidente di AssoBio \nLe controversie generate dalla misinterpretazione della normativa bio sui residui nonammessi e le difficoltà nella gestione: il mancato know how\nBiagio Calcavecchia – FederBio Servizi \nPrincipali cause e modalità di rilevazione delle contaminazioni nei prodotti biologici\nGiuseppe Vassanelli – Vassanelli Lab \nEffetti di una errata valutazione del tema infestanti nell’ambito delle produzioni biologiche\nLuigi Bombardieri – Controllo Ricerca & Sviluppo \nLe moderne tecniche di Pest Control\, efficaci ed ecosostenibili\nGiorgio Polo – Chimical Service \nPresentazione del progetto ProBIO Solutions\nNicola Stanzani – Direttore di FederBio Servizi \nConclusioni e Domande \nE’ possibile scaricare la locandina dell’evento qui. \nLa partecipazione è gratuita. Si chiede iscrizione al seguente link:\nhttps://forms.gle/Avazbv527JVQEi4R8
URL:https://staging.federbioservizi.it/evento/seminario-contaminazione-e-infestazioni-imprese-biologiche-2/
ATTACH;FMTTYPE=image/jpeg:https://staging.federbioservizi.it/wp-content/uploads/2021/02/wheat-4509_1920.jpg
END:VEVENT
END:VCALENDAR