BEGIN:VCALENDAR
VERSION:2.0
PRODID:-//Staging Federbioservizi - ECPv6.10.1.1//NONSGML v1.0//EN
CALSCALE:GREGORIAN
METHOD:PUBLISH
X-ORIGINAL-URL:https://staging.federbioservizi.it
X-WR-CALDESC:Eventi per Staging Federbioservizi
REFRESH-INTERVAL;VALUE=DURATION:PT1H
X-Robots-Tag:noindex
X-PUBLISHED-TTL:PT1H
BEGIN:VTIMEZONE
TZID:Europe/Rome
BEGIN:DAYLIGHT
TZOFFSETFROM:+0100
TZOFFSETTO:+0200
TZNAME:CEST
DTSTART:20210328T010000
END:DAYLIGHT
BEGIN:STANDARD
TZOFFSETFROM:+0200
TZOFFSETTO:+0100
TZNAME:CET
DTSTART:20211031T010000
END:STANDARD
END:VTIMEZONE
BEGIN:VEVENT
DTSTART;TZID=Europe/Rome:20210614T113000
DTEND;TZID=Europe/Rome:20210614T130000
DTSTAMP:20260422T165705
CREATED:20210615T140728Z
LAST-MODIFIED:20210615T142551Z
UID:3528-1623670200-1623675600@staging.federbioservizi.it
SUMMARY:Evento di presentazione progetto BioSmartZoo
DESCRIPTION:Assoavi a Forlì – 14 giugno 2021\nEvento di presentazione progetto BioSmartZoo\nNuove tecniche e strumenti innovativi per l’implementazione\, il monitoraggio e la tracciabilità di elevati standard di benessere animale e alimentazione biologica nelle filiere zootecniche\nSi terrà lunedì 14 giugno 2021 dalle ore 11.30 presso Assoavi Via Punta di Ferro n.2 Forlì e in collegamento in videoconferenza tramite il link https://meet.google.com/uxy-tosf-ocm l’evento di presentazione del progetto BioSmartZoo – Nuove tecniche e strumenti innovativi per l’implementazione\, il monitoraggio e la tracciabilità di elevati standard di benessere animale e alimentazione biologica nelle filiere zootecniche. \nL’evento\, aperto a tutti e gratuito\, avrà inizio alle ore 11.30 con il seguente programma: \n\nSaluti iniziali – Stefano Gagliardi\, Assoavi\nPresentazione generale del progetto – Nicola Stanzani\, FederBio Servizi e Leonora Battistini\, Artemis\nPresentazione azione 1 del progetto – Daniele Fichera\, FederBio Servizi\nPresentazione azione 2 del progetto – Stefano Gagliardi\, Assoavi e Stefano Mengoli\, Bovinitaly\nPresentazione azione 3 del progetto – Cesare Castellini\, Università degli Studi di Perugia\nPresentazione azione 4 del progetto – Gianluca Mazza\, FederBio Servizi\nSpazio per domande\nConclusioni\n\n\nSCARICA LA LOCANDINA DELL’EVENTO \n\nIl progetto\, con capofila FederBio Servizi e Artemis\, Fileni\, Assoavi\, Bovinitaly e Università di Perugia tra i partner\, è volto a verificare l’applicabilità in ottica di sostenibilità economica dello standard High Welfare di FederBio per allevamenti bovini da carne e avicoli da uova che rappresentano tipologie rilevanti per il settore biologico regionale. \nL’evento è organizzato da FederBio Servizi per la presentazione del progetto BioSmartZoo\, cofinanziato nell’ambito del PSR 2014-2020 Regione Emilia Romagna. TIPO DIOPERAZIONE 16.1.01 “GRUPPI OPERATIVI DEL PEI PERLA PRODUTTIVITÀ E LA SOSTENIBILITÀDELL’AGRICOLTURA”. FOCUS AREA 3A.
URL:https://staging.federbioservizi.it/evento/evento-presentazione-progetto-biosmartzoo/
LOCATION:Assoavi\, Via Punta di Ferro n.2\, Forlì\, (FC)\, Italia
ATTACH;FMTTYPE=image/png:https://staging.federbioservizi.it/wp-content/uploads/2021/05/BSZ.png
ORGANIZER;CN="FederBio Servizi":MAILTO:info@federbioservizi.it
END:VEVENT
BEGIN:VEVENT
DTSTART;TZID=Europe/Rome:20210614T113000
DTEND;TZID=Europe/Rome:20210614T130000
DTSTAMP:20260422T165705
CREATED:20210615T140728Z
LAST-MODIFIED:20210615T140728Z
UID:11019-1623670200-1623675600@staging.federbioservizi.it
SUMMARY:Evento di presentazione progetto BioSmartZoo
DESCRIPTION:Assoavi a Forlì – 14 giugno 2021\nEvento di presentazione progetto BioSmartZoo\nNuove tecniche e strumenti innovativi per l’implementazione\, il monitoraggio e la tracciabilità di elevati standard di benessere animale e alimentazione biologica nelle filiere zootecniche\nSi terrà lunedì 14 giugno 2021 dalle ore 11.30 presso Assoavi Via Punta di Ferro n.2 Forlì e in collegamento in videoconferenza tramite il link https://meet.google.com/uxy-tosf-ocm l’evento di presentazione del progetto BioSmartZoo – Nuove tecniche e strumenti innovativi per l’implementazione\, il monitoraggio e la tracciabilità di elevati standard di benessere animale e alimentazione biologica nelle filiere zootecniche. \nL’evento\, aperto a tutti e gratuito\, avrà inizio alle ore 11.30 con il seguente programma: \n\nSaluti iniziali – Stefano Gagliardi\, Assoavi\nPresentazione generale del progetto – Nicola Stanzani\, FederBio Servizi e Leonora Battistini\, Artemis\nPresentazione azione 1 del progetto – Daniele Fichera\, FederBio Servizi\nPresentazione azione 2 del progetto – Stefano Gagliardi\, Assoavi e Stefano Mengoli\, Bovinitaly\nPresentazione azione 3 del progetto – Cesare Castellini\, Università degli Studi di Perugia\nPresentazione azione 4 del progetto – Gianluca Mazza\, FederBio Servizi\nSpazio per domande\nConclusioni\n\n\nSCARICA LA LOCANDINA DELL’EVENTO \n\nIl progetto\, con capofila FederBio Servizi e Artemis\, Fileni\, Assoavi\, Bovinitaly e Università di Perugia tra i partner\, è volto a verificare l’applicabilità in ottica di sostenibilità economica dello standard High Welfare di FederBio per allevamenti bovini da carne e avicoli da uova che rappresentano tipologie rilevanti per il settore biologico regionale. \nL’evento è organizzato da FederBio Servizi per la presentazione del progetto BioSmartZoo\, cofinanziato nell’ambito del PSR 2014-2020 Regione Emilia Romagna. TIPO DIOPERAZIONE 16.1.01 “GRUPPI OPERATIVI DEL PEI PERLA PRODUTTIVITÀ E LA SOSTENIBILITÀDELL’AGRICOLTURA”. FOCUS AREA 3A.
URL:https://staging.federbioservizi.it/evento/evento-presentazione-progetto-biosmartzoo-2/
LOCATION:Assoavi\, Via Punta di Ferro n.2\, Forlì\, (FC)\, Italia
ATTACH;FMTTYPE=image/png:https://staging.federbioservizi.it/wp-content/uploads/2021/05/BSZ.png
ORGANIZER;CN="FederBio Servizi":MAILTO:info@federbioservizi.it
END:VEVENT
END:VCALENDAR